{"text_format":"1","workbook":"xlsx","n_sheets":13,"sheets":["大学名等","①男子40歳未満の部","②男子40歳以上の部","③男子55歳以上の部","④女子の部","11人対抗戦推薦選手","プログラム貼付用","懇親会","保険①","保険②","保険③","保険④","Sheet3"],"not_rendered":{"charts":0,"images":0,"macros":0,"external_links":0,"defined_names":12,"comments":4,"pivot_tables":0},"unopened":[],"bounds":{"document_bytes":16777216,"sheet_cells":100000,"rows_first":2000,"rows_last":500,"rows_between":2000,"halvings":0,"cell_chars":16384,"cell_head_chars":4096},"cells_cut":0,"cells_raw":0,"read":"whole","date_system":"1900"}

{"sheet":"大学名等","index":0,"n_rows":32,"n_cols":56,"rows_kept":32,"cut":false,"hidden":false,"merged":[[2,0,3,16],[6,0,6,1],[10,7,10,16],[4,10,4,14],[7,8,7,10],[7,2,7,7],[5,0,5,1],[5,2,5,16],[6,2,6,16],[7,11,7,16],[8,11,8,13],[8,14,8,16],[9,0,9,1],[11,2,11,3],[11,4,11,5],[11,6,11,9],[7,0,7,1],[8,0,8,1],[8,2,8,7],[8,8,8,10],[9,2,9,6]]}
[]
["　　令和元年度"]
["　第21回北海道学連剣友剣道大会"]
[]
[null,null,null,null,null,null,null,null,null,null,"【参加申込書】"]
["大学名",null,null,null,null,null,null,null,null,null,null,null,null,null,null,null,null,null,null,null,null,null,null,null,null,null,null,null,"札幌","四"]
["担当者住所",null,null,null,null,null,null,null,null,null,null,null,null,null,null,null,null,null,null,null,null,null,null,null,null,null,null,null,"空知","五"]
["担当者氏名",null,null,null,null,null,null,null,"連絡先",null,null,null,null,null,null,null,null,null,null,null,null,null,null,null,null,null,null,null,"旭川"]
["監督氏名",null,null,null,null,null,null,null,"称号・段位",null,null,null,null,null,null,null,null,null,null,null,null,null,null,null,null,null,null,null,"名寄"]
["大会参加費計",null,{"$f":"プログラム貼付用!J61*1000","v":0},null,null,null,null,"円",null,null,null,null,null,null,null,null,null,null,null,null,null,null,null,null,null,null,null,null,"十勝"]
[null,null,null,null,null,"※",null,"のセルに必要事項を入力してください。",null,null,null,null,null,null,null,null,null,null,null,null,null,null,null,null,null,null,null,null,"北見"]
[null,null,null,null,null,null,null,null,null,null,null,null,null,null,null,null,null,null,null,null,null,null,null,null,null,null,null,null,"釧根"]
[null,"＜注意事項＞"]
[null,"・","　一の大学で編成できず、補欠については、事務局に一任する場合は、"]
[null,null,"該当の部門の先鋒、中堅の順に必要事項を記入してください。"]
[null,null,"（先鋒のみ記入→２名他大学を加え合同チームを編成、中堅まで記入→"]
[null,null,"１名他大学を加え合同チームを編成）"]
[]
[null,"・","　補欠については、各部門一人までとし、複数のチームにおいて、補欠"]
[null,null,"又は欠員がいた場合、事務局の判断で合同チームを作る可能性がありま"]
[null,null,"す。"]
[]
[null,"・","　入れ替えでの出場を強く希望するなど、合同チームでの出場を希望し",null,null,null,null,null,null,null,null,null,null,null,null,null,null,null,null,null,null,null,null,null,null,null,null,null,"男子団体"]
[null,null,"ない場合は、Ａチームの補欠として登録することとします。"]
[]
[null,"・","　対抗戦選手として推薦された場合であっても、諸事情により出場でき",null,null,null,null,null,null,null,null,null,null,null,null,null,null,null,null,null,null,null,null,null,null,null,null,null,"支部名","順位","学校名","監督名","略名","マネージャー",null,"先鋒",null,null,"次鋒",null,null,"中堅",null,null,"副将",null,null,"大将",null,null,"補欠",null,null,"補欠"]
[null,null,"ない場合がありますので、御承知置き願います。",null,null,null,null,null,null,null,null,null,null,null,null,null,null,null,null,null,null,null,null,null,null,null,null,null,{"$f":"#REF!&\"支部\"","v":{"$error":"#REF!"}},null,{"$f":"A6","v":"大学名"},{"$f":"①男子40歳未満の部!C8","v":""},null,{"$f":"①男子40歳未満の部!C9","v":""},{"$f":"①男子40歳未満の部!L9","v":0},{"$f":"①男子40歳未満の部!B15","v":0},{"$f":"①男子40歳未満の部!I15","v":0},{"$f":"IF(①男子40歳未満の部!J15=\"\",\"\",①男子40歳未満の部!J15)","v":""},{"$f":"①男子40歳未満の部!B16","v":0},{"$f":"①男子40歳未満の部!I16","v":0},{"$f":"IF(①男子40歳未満の部!J16=\"\",\"\",①男子40歳未満の部!J16)","v":""},{"$f":"①男子40歳未満の部!B17","v":0},{"$f":"①男子40歳未満の部!I17","v":0},{"$f":"IF(①男子40歳未満の部!J17=\"\",\"\",①男子40歳未満の部!J17)","v":""},{"$f":"①男子40歳未満の部!#REF!","v":{"$error":"#REF!"}},{"$f":"①男子40歳未満の部!#REF!","v":{"$error":"#REF!"}},{"$f":"IF(①男子40歳未満の部!#REF!=\"\",\"\",①男子40歳未満の部!#REF!)","v":{"$error":"#REF!"}},{"$f":"①男子40歳未満の部!#REF!","v":{"$error":"#REF!"}},{"$f":"①男子40歳未満の部!#REF!","v":{"$error":"#REF!"}},{"$f":"IF(①男子40歳未満の部!#REF!=\"\",\"\",①男子40歳未満の部!#REF!)","v":{"$error":"#REF!"}},{"$f":"①男子40歳未満の部!#REF!","v":{"$error":"#REF!"}},{"$f":"①男子40歳未満の部!#REF!","v":{"$error":"#REF!"}},{"$f":"IF(①男子40歳未満の部!#REF!=\"\",\"\",①男子40歳未満の部!#REF!)","v":{"$error":"#REF!"}},{"$f":"①男子40歳未満の部!#REF!","v":{"$error":"#REF!"}},{"$f":"①男子40歳未満の部!#REF!","v":{"$error":"#REF!"}},{"$f":"IF(①男子40歳未満の部!#REF!=\"\",\"\",①男子40歳未満の部!#REF!)","v":{"$error":"#REF!"}}]
[]
[]
[null,null,null,null,null,null,null,null,null,null,null,null,null,null,null,null,null,null,null,null,null,null,null,null,null,null,null,null,"女子団体"]
[null,null,null,null,null,null,null,null,null,null,null,null,null,null,null,null,null,null,null,null,null,null,null,null,null,null,null,null,"支部名","順位","学校名","監督名","略名","マネージャー",null,"先鋒",null,null,"次鋒",null,null,"中堅",null,null,"副将",null,null,"大将",null,null,"補欠",null,null,"補欠"]
[null,null,null,null,null,null,null,null,null,null,null,null,null,null,null,null,null,null,null,null,null,null,null,null,null,null,null,null,{"$f":"#REF!&\"支部\"","v":{"$error":"#REF!"}},null,{"$f":"A6","v":"大学名"},{"$f":"#REF!","v":{"$error":"#REF!"}},null,{"$f":"#REF!","v":{"$error":"#REF!"}},{"$f":"#REF!","v":{"$error":"#REF!"}},{"$f":"#REF!","v":{"$error":"#REF!"}},{"$f":"#REF!","v":{"$error":"#REF!"}},{"$f":"IF(#REF!=\"\",\"\",#REF!)","v":{"$error":"#REF!"}},{"$f":"#REF!","v":{"$error":"#REF!"}},{"$f":"#REF!","v":{"$error":"#REF!"}},{"$f":"IF(#REF!=\"\",\"\",#REF!)","v":{"$error":"#REF!"}},{"$f":"#REF!","v":{"$error":"#REF!"}},{"$f":"#REF!","v":{"$error":"#REF!"}},{"$f":"IF(#REF!=\"\",\"\",#REF!)","v":{"$error":"#REF!"}},{"$f":"#REF!","v":{"$error":"#REF!"}},{"$f":"#REF!","v":{"$error":"#REF!"}},{"$f":"IF(#REF!=\"\",\"\",#REF!)","v":{"$error":"#REF!"}},{"$f":"#REF!","v":{"$error":"#REF!"}},{"$f":"#REF!","v":{"$error":"#REF!"}},{"$f":"IF(#REF!=\"\",\"\",#REF!)","v":{"$error":"#REF!"}},{"$f":"#REF!","v":{"$error":"#REF!"}},{"$f":"#REF!","v":{"$error":"#REF!"}},{"$f":"IF(#REF!=\"\",\"\",#REF!)","v":{"$error":"#REF!"}},{"$f":"#REF!","v":{"$error":"#REF!"}},{"$f":"#REF!","v":{"$error":"#REF!"}},{"$f":"IF(#REF!=\"\",\"\",#REF!)","v":{"$error":"#REF!"}}]

{"sheet":"①男子40歳未満の部","index":1,"n_rows":43,"n_cols":33,"rows_kept":43,"cut":false,"hidden":false,"merged":[[12,17,13,17],[19,17,20,17],[26,17,27,17],[33,17,34,17],[40,17,41,17],[39,9,39,16],[35,1,35,5],[35,11,35,16],[36,1,36,5],[36,11,36,16],[37,1,37,5],[37,11,37,16],[30,1,30,5],[30,11,30,16],[32,9,32,16],[33,0,34,0],[33,1,34,5],[33,6,33,7],[33,8,34,8],[33,9,34,9],[33,10,34,10],[33,11,34,16],[26,10,27,10],[26,11,27,16],[28,1,28,5],[28,11,28,16],[29,1,29,5],[29,11,29,16],[26,0,27,0],[26,1,27,5],[26,6,26,7],[26,8,27,8],[26,9,27,9],[19,0,20,0],[19,1,20,5],[19,6,19,7],[19,8,20,8],[19,9,20,9],[4,0,4,5],[7,12,7,13],[7,14,7,16],[8,12,8,16],[7,2,7,9],[8,2,8,9],[14,11,14,16],[15,11,15,16],[16,11,16,16],[12,9,13,9],[14,1,14,5],[15,1,15,5],[12,1,13,5],[16,1,16,5],[12,6,12,7],[10,10,10,13],[12,0,13,0],[12,8,13,8],[12,10,13,10],[12,11,13,16],[21,1,21,5],[21,11,21,16],[22,1,22,5],[22,11,22,16],[18,9,18,16],[42,1,42,5],[42,11,42,16],[7,10,7,11],[11,9,11,16],[39,0,39,1],[40,0,41,0],[40,1,41,5],[40,8,41,8],[40,9,41,9],[40,10,41,10],[40,11,41,16],[40,6,40,7],[25,0,25,1],[32,0,32,1],[19,10,20,10],[19,11,20,16],[33,18,34,18],[40,18,41,18],[1,0,2,18],[3,10,3,18],[12,18,13,18],[19,18,20,18],[26,18,27,18],[8,0,8,1],[7,0,7,1],[8,10,8,11],[11,0,11,1],[18,0,18,1],[23,1,23,5],[23,11,23,16],[25,9,25,16],[10,0,10,8]]}
[]
[{"$f":"大学名等!A3","v":"　第21回北海道学連剣友剣道大会"}]
[]
[null,null,null,null,null,null,null,null,null,null,"　参加申込書"]
[{"$f":"IF(大学名等!C6=\"\",\"\",大学名等!C6)","v":""},null,null,null,null,null,null,null,null,null,null,null,null,null,null,null,null,null,null,null,null,null,null,null,null,null,null,null,null,"錬","初","男子","平成"]
[null,null,null,null,null,null,null,null,null,null,null,null,null,null,null,null,null,null,null,null,null,null,null,null,null,null,null,null,null,"教","弐","女子","昭和"]
[null,null,null,null,null,null,null,null,null,null,null,null,null,null,null,null,null,null,null,null,null,null,null,null,null,null,null,null,null,"範","参"]
["　監督名：",null,{"$f":"IF(大学名等!C9=\"\",\"\",大学名等!C9)","v":""},null,null,null,null,null,null,null,"称号・段位",null,{"$f":"IF(大学名等!L9=\"\",\"\",大学名等!L9)","v":""},null,{"$f":"IF(大学名等!O9=\"\",\"\",大学名等!O9)","v":""}]
["　担当者：",null,{"$f":"IF(大学名等!C8=\"\",\"\",大学名等!C8)","v":""},null,null,null,null,null,null,null,"連絡先",null,{"$f":"IF(大学名等!L8=\"\",\"\",大学名等!L8)","v":""}]
[]
["　男子3人制団体戦（40歳未満の部）　"]
["Aチーム",null,null,null,null,null,null,"※",null,"のセルに必要事項を入力してください。"]
["位　置","氏　　　名",null,null,null,null,"フリガナ（カタカナ）",null,"年齢","称号","段位","勤務先",null,null,null,null,null,"備考","懇親会"]
[null,null,null,null,null,null,"姓","名"]
["先鋒",null,null,null,null,null,null,null,null,null,null,null,null,null,null,null,null,null,null,{"$f":"IF(S15=\"○\",1,0)","v":0},{"$f":"IF(S15=\"○\",1,0)","v":0}]
["中堅",null,null,null,null,null,null,null,null,null,null,null,null,null,null,null,null,null,null,{"$f":"IF(S16=\"○\",1,0)","v":0},{"$f":"IF(S16=\"○\",SUM($T$15:T16),0)","v":0}]
["大将",null,null,null,null,null,null,null,null,null,null,null,null,null,null,null,null,null,null,0,{"$f":"IF(S17=\"○\",SUM($T$15:T17),0)","v":0}]
[null,null,null,null,null,null,null,null,null,null,null,null,null,null,null,null,null,null,null,0,{"$f":"IF(S18=\"○\",SUM($T$15:T18),0)","v":0}]
["Bチーム",null,null,null,null,null,null,"※",null,"のセルに必要事項を入力してください。",null,null,null,null,null,null,null,null,null,0,{"$f":"IF(S19=\"○\",SUM($T$15:T19),0)","v":0}]
["位　置","氏　　　名",null,null,null,null,"フリガナ（カタカナ）",null,"年齢","称号","段位","勤務先",null,null,null,null,null,"備考","懇親会",0,{"$f":"IF(S20=\"○\",SUM($T$15:T20),0)","v":0}]
[null,null,null,null,null,null,"姓","名",null,null,null,null,null,null,null,null,null,null,null,0,{"$f":"IF(S21=\"○\",SUM($T$15:T21),0)","v":0}]
["先鋒",null,null,null,null,null,null,null,null,null,null,null,null,null,null,null,null,null,null,0,{"$f":"IF(S22=\"○\",SUM($T$15:T22),0)","v":0}]
["中堅",null,null,null,null,null,null,null,null,null,null,null,null,null,null,null,null,null,null,0,{"$f":"IF(S23=\"○\",SUM($T$15:T23),0)","v":0}]
["大将",null,null,null,null,null,null,null,null,null,null,null,null,null,null,null,null,null,null,0,{"$f":"IF(S24=\"○\",SUM($T$15:T24),0)","v":0}]
[null,null,null,null,null,null,null,null,null,null,null,null,null,null,null,null,null,null,null,0,{"$f":"IF(S25=\"○\",SUM($T$15:T25),0)","v":0}]
["Cチーム",null,null,null,null,null,null,"※",null,"のセルに必要事項を入力してください。",null,null,null,null,null,null,null,null,null,0,{"$f":"IF(S26=\"○\",SUM($T$15:T26),0)","v":0}]
["位　置","氏　　　名",null,null,null,null,"フリガナ（カタカナ）",null,"年齢","称号","段位","勤務先",null,null,null,null,null,"備考","懇親会",0,{"$f":"IF(S27=\"○\",SUM($T$15:T27),0)","v":0}]
[null,null,null,null,null,null,"姓","名",null,null,null,null,null,null,null,null,null,null,null,0,{"$f":"IF(S28=\"○\",SUM($T$15:T28),0)","v":0}]
["先鋒",null,null,null,null,null,null,null,null,null,null,null,null,null,null,null,null,null,null,0,{"$f":"IF(S29=\"○\",SUM($T$15:T29),0)","v":0}]
["中堅",null,null,null,null,null,null,null,null,null,null,null,null,null,null,null,null,null,null,0,{"$f":"IF(S30=\"○\",SUM($T$15:T30),0)","v":0}]
["大将",null,null,null,null,null,null,null,null,null,null,null,null,null,null,null,null,null,null,0,{"$f":"IF(S31=\"○\",SUM($T$15:T31),0)","v":0}]
[null,null,null,null,null,null,null,null,null,null,null,null,null,null,null,null,null,null,null,0,{"$f":"IF(S32=\"○\",SUM($T$15:T32),0)","v":0}]
["Dチーム",null,null,null,null,null,null,"※",null,"のセルに必要事項を入力してください。",null,null,null,null,null,null,null,null,null,0,{"$f":"IF(S33=\"○\",SUM($T$15:T33),0)","v":0}]
["位　置","氏　　　名",null,null,null,null,"フリガナ（カタカナ）",null,"年齢","称号","段位","勤務先",null,null,null,null,null,"備考","懇親会",0,{"$f":"IF(S34=\"○\",SUM($T$15:T34),0)","v":0}]
[null,null,null,null,null,null,"姓","名",null,null,null,null,null,null,null,null,null,null,null,0,{"$f":"IF(S35=\"○\",SUM($T$15:T35),0)","v":0}]
["先鋒",null,null,null,null,null,null,null,null,null,null,null,null,null,null,null,null,null,null,0,{"$f":"IF(S36=\"○\",SUM($T$15:T36),0)","v":0}]
["中堅",null,null,null,null,null,null,null,null,null,null,null,null,null,null,null,null,null,null,0,{"$f":"IF(S37=\"○\",SUM($T$15:T37),0)","v":0}]
["大将",null,null,null,null,null,null,null,null,null,null,null,null,null,null,null,null,null,null,0,{"$f":"IF(S38=\"○\",SUM($T$15:T38),0)","v":0}]
[null,null,null,null,null,null,null,null,null,null,null,null,null,null,null,null,null,null,null,0,{"$f":"IF(S39=\"○\",SUM($T$15:T39),0)","v":0}]
["補欠",null,null,null,null,null,null,"※",null,"のセルに必要事項を入力してください。",null,null,null,null,null,null,null,null,null,0,{"$f":"IF(S40=\"○\",SUM($T$15:T40),0)","v":0}]
[null,"氏　　　名",null,null,null,null,"ふりがな（ひらがな）",null,"年齢","称号","段位","勤務先",null,null,null,null,null,"備考","懇親会",0,{"$f":"IF(S41=\"○\",SUM($T$15:T41),0)","v":0}]
[null,null,null,null,null,null,"姓","名",null,null,null,null,null,null,null,null,null,null,null,0,{"$f":"IF(S42=\"○\",SUM($T$15:T42),0)","v":0}]
[null,null,null,null,null,null,null,null,null,null,null,null,null,null,null,null,null,null,null,0,{"$f":"IF(S43=\"○\",SUM($T$15:T43),0)","v":0}]

{"sheet":"②男子40歳以上の部","index":2,"n_rows":43,"n_cols":21,"rows_kept":43,"cut":false,"hidden":false,"merged":[[12,17,13,17],[19,17,20,17],[26,17,27,17],[33,17,34,17],[40,17,41,17],[29,1,29,5],[29,11,29,16],[30,1,30,5],[30,11,30,16],[28,1,28,5],[28,11,28,16],[23,1,23,5],[23,11,23,16],[26,0,27,0],[26,1,27,5],[26,6,26,7],[26,8,27,8],[26,9,27,9],[26,10,27,10],[26,11,27,16],[25,9,25,16],[25,0,25,1],[3,10,3,18],[1,0,2,18],[19,0,20,0],[19,1,20,5],[19,6,19,7],[19,8,20,8],[19,9,20,9],[4,0,4,5],[7,0,7,1],[7,2,7,9],[7,12,7,13],[7,14,7,16],[12,0,13,0],[12,1,13,5],[12,6,12,7],[12,8,13,8],[22,11,22,16],[12,9,13,9],[8,0,8,1],[8,2,8,9],[8,10,8,11],[8,12,8,16],[10,0,10,8],[10,11,10,16],[11,9,11,16],[11,0,11,1],[33,9,34,9],[16,1,16,5],[16,11,16,16],[18,9,18,16],[12,10,13,10],[12,11,13,16],[14,1,14,5],[14,11,14,16],[15,1,15,5],[15,11,15,16],[18,0,18,1],[21,1,21,5],[21,11,21,16],[19,10,20,10],[19,11,20,16],[22,1,22,5],[32,9,32,16],[39,0,39,1],[39,9,39,16],[37,1,37,5],[37,11,37,16],[32,0,32,1],[33,10,34,10],[33,11,34,16],[35,1,35,5],[35,11,35,16],[36,1,36,5],[36,11,36,16],[33,0,34,0],[33,1,34,5],[33,6,33,7],[33,8,34,8],[40,10,41,10],[40,11,41,16],[42,1,42,5],[42,11,42,16],[40,0,41,0],[40,1,41,5],[40,6,40,7],[40,8,41,8],[40,9,41,9],[12,18,13,18],[19,18,20,18],[26,18,27,18],[33,18,34,18],[40,18,41,18]]}
[]
[{"$f":"大学名等!A3","v":"　第21回北海道学連剣友剣道大会"}]
[]
[null,null,null,null,null,null,null,null,null,null,"　参加申込書"]
[{"$f":"IF(大学名等!C6=\"\",\"\",大学名等!C6)","v":""}]
[]
[]
["　監督名：",null,{"$f":"IF(大学名等!C9=\"\",\"\",大学名等!C9)","v":""},null,null,null,null,null,null,null,"称号・段位",null,{"$f":"IF(大学名等!L9=\"\",\"\",大学名等!L9)","v":""},null,{"$f":"IF(大学名等!O9=\"\",\"\",大学名等!O9)","v":""}]
["　担当者：",null,{"$f":"IF(大学名等!C8=\"\",\"\",大学名等!C8)","v":""},null,null,null,null,null,null,null,"連絡先",null,{"$f":"IF(大学名等!L8=\"\",\"\",大学名等!L8)","v":""}]
[]
["　男子3人制団体戦（40歳以上の部）　"]
["Aチーム",null,null,null,null,null,null,"※",null,"のセルに必要事項を入力してください。"]
["位　置","氏　　　名",null,null,null,null,"フリガナ（カタカナ）",null,"年齢","称号","段位","勤務先",null,null,null,null,null,"備考","懇親会"]
[null,null,null,null,null,null,"姓","名"]
["先鋒",null,null,null,null,null,null,null,null,null,null,null,null,null,null,null,null,null,null,{"$f":"IF(S15=\"○\",1,0)","v":0},{"$f":"IF(S15=\"○\",SUM(①男子40歳未満の部!$T$15:T43)+1,0)","v":0}]
["中堅",null,null,null,null,null,null,null,null,null,null,null,null,null,null,null,null,null,null,{"$f":"IF(S16=\"○\",1,0)","v":0},{"$f":"IF(S16=\"○\",SUM(①男子40歳未満の部!$T$15:T44)+SUM($T$15:T16),0)","v":0}]
["大将",null,null,null,null,null,null,null,null,null,null,null,null,null,null,null,null,null,null,0,{"$f":"IF(S17=\"○\",SUM(①男子40歳未満の部!$T$15:T45)+SUM($T$15:T17),0)","v":0}]
[null,null,null,null,null,null,null,null,null,null,null,null,null,null,null,null,null,null,null,0,{"$f":"IF(S18=\"○\",SUM(①男子40歳未満の部!$T$15:T46)+SUM($T$15:T18),0)","v":0}]
["Bチーム",null,null,null,null,null,null,"※",null,"のセルに必要事項を入力してください。",null,null,null,null,null,null,null,null,null,0,{"$f":"IF(S19=\"○\",SUM(①男子40歳未満の部!$T$15:T47)+SUM($T$15:T19),0)","v":0}]
["位　置","氏　　　名",null,null,null,null,"フリガナ（カタカナ）",null,"年齢","称号","段位","勤務先",null,null,null,null,null,"備考","懇親会",0,{"$f":"IF(S20=\"○\",SUM(①男子40歳未満の部!$T$15:T48)+SUM($T$15:T20),0)","v":0}]
[null,null,null,null,null,null,"姓","名",null,null,null,null,null,null,null,null,null,null,null,0,{"$f":"IF(S21=\"○\",SUM(①男子40歳未満の部!$T$15:T49)+SUM($T$15:T21),0)","v":0}]
["先鋒"]
["中堅"]
["大将",null,null,null,null,null,null,null,null,null,null,null,null,null,null,null,null,null,null,0,{"$f":"IF(S24=\"○\",SUM(①男子40歳未満の部!$T$15:T52)+SUM($T$15:T24),0)","v":0}]
[null,null,null,null,null,null,null,null,null,null,null,null,null,null,null,null,null,null,null,0,{"$f":"IF(S25=\"○\",SUM(①男子40歳未満の部!$T$15:T53)+SUM($T$15:T25),0)","v":0}]
["Cチーム",null,null,null,null,null,null,"※",null,"のセルに必要事項を入力してください。",null,null,null,null,null,null,null,null,null,0,{"$f":"IF(S26=\"○\",SUM(①男子40歳未満の部!$T$15:T54)+SUM($T$15:T26),0)","v":0}]
["位　置","氏　　　名",null,null,null,null,"フリガナ（カタカナ）",null,"年齢","称号","段位","勤務先",null,null,null,null,null,"備考","懇親会",0,{"$f":"IF(S27=\"○\",SUM(①男子40歳未満の部!$T$15:T55)+SUM($T$15:T27),0)","v":0}]
[null,null,null,null,null,null,"姓","名",null,null,null,null,null,null,null,null,null,null,null,0,{"$f":"IF(S28=\"○\",SUM(①男子40歳未満の部!$T$15:T56)+SUM($T$15:T28),0)","v":0}]
["先鋒",null,null,null,null,null,null,null,null,null,null,null,null,null,null,null,null,null,null,0,{"$f":"IF(S29=\"○\",SUM(①男子40歳未満の部!$T$15:T57)+SUM($T$15:T29),0)","v":0}]
["中堅",null,null,null,null,null,null,null,null,null,null,null,null,null,null,null,null,null,null,0,{"$f":"IF(S30=\"○\",SUM(①男子40歳未満の部!$T$15:T58)+SUM($T$15:T30),0)","v":0}]
["大将",null,null,null,null,null,null,null,null,null,null,null,null,null,null,null,null,null,null,0,{"$f":"IF(S31=\"○\",SUM(①男子40歳未満の部!$T$15:T59)+SUM($T$15:T31),0)","v":0}]
[null,null,null,null,null,null,null,null,null,null,null,null,null,null,null,null,null,null,null,0,{"$f":"IF(S32=\"○\",SUM(①男子40歳未満の部!$T$15:T60)+SUM($T$15:T32),0)","v":0}]
["Dチーム",null,null,null,null,null,null,"※",null,"のセルに必要事項を入力してください。",null,null,null,null,null,null,null,null,null,0,{"$f":"IF(S33=\"○\",SUM(①男子40歳未満の部!$T$15:T61)+SUM($T$15:T33),0)","v":0}]
["位　置","氏　　　名",null,null,null,null,"フリガナ（カタカナ）",null,"年齢","称号","段位","勤務先",null,null,null,null,null,"備考","懇親会",0,{"$f":"IF(S34=\"○\",SUM(①男子40歳未満の部!$T$15:T62)+SUM($T$15:T34),0)","v":0}]
[null,null,null,null,null,null,"姓","名",null,null,null,null,null,null,null,null,null,null,null,0,{"$f":"IF(S35=\"○\",SUM(①男子40歳未満の部!$T$15:T63)+SUM($T$15:T35),0)","v":0}]
["先鋒",null,null,null,null,null,null,null,null,null,null,null,null,null,null,null,null,null,null,0,{"$f":"IF(S36=\"○\",SUM(①男子40歳未満の部!$T$15:T64)+SUM($T$15:T36),0)","v":0}]
["中堅",null,null,null,null,null,null,null,null,null,null,null,null,null,null,null,null,null,null,0,{"$f":"IF(S37=\"○\",SUM(①男子40歳未満の部!$T$15:T65)+SUM($T$15:T37),0)","v":0}]
["大将",null,null,null,null,null,null,null,null,null,null,null,null,null,null,null,null,null,null,0,{"$f":"IF(S38=\"○\",SUM(①男子40歳未満の部!$T$15:T66)+SUM($T$15:T38),0)","v":0}]
[null,null,null,null,null,null,null,null,null,null,null,null,null,null,null,null,null,null,null,0,{"$f":"IF(S39=\"○\",SUM(①男子40歳未満の部!$T$15:T67)+SUM($T$15:T39),0)","v":0}]
["補欠",null,null,null,null,null,null,"※",null,"のセルに必要事項を入力してください。",null,null,null,null,null,null,null,null,null,0,{"$f":"IF(S40=\"○\",SUM(①男子40歳未満の部!$T$15:T68)+SUM($T$15:T40),0)","v":0}]
[null,"氏　　　名",null,null,null,null,"フリガナ（カタカナ）",null,"年齢","称号","段位","勤務先",null,null,null,null,null,"備考","懇親会",0,{"$f":"IF(S41=\"○\",SUM(①男子40歳未満の部!$T$15:T69)+SUM($T$15:T41),0)","v":0}]
[null,null,null,null,null,null,"姓","名",null,null,null,null,null,null,null,null,null,null,null,0,{"$f":"IF(S42=\"○\",SUM(①男子40歳未満の部!$T$15:T70)+SUM($T$15:T42),0)","v":0}]
[null,null,null,null,null,null,null,null,null,null,null,null,null,null,null,null,null,null,null,0,{"$f":"IF(S43=\"○\",SUM(①男子40歳未満の部!$T$15:T71)+SUM($T$15:T43),0)","v":0}]

{"sheet":"③男子55歳以上の部","index":3,"n_rows":43,"n_cols":21,"rows_kept":43,"cut":false,"hidden":false,"merged":[[12,17,13,17],[19,17,20,17],[26,17,27,17],[33,17,34,17],[40,17,41,17],[37,11,37,16],[33,18,34,18],[35,1,35,5],[35,11,35,16],[36,1,36,5],[36,11,36,16],[30,11,30,16],[32,0,32,1],[32,9,32,16],[33,0,34,0],[33,1,34,5],[33,6,33,7],[33,8,34,8],[33,9,34,9],[33,10,34,10],[33,11,34,16],[26,18,27,18],[28,1,28,5],[28,11,28,16],[29,1,29,5],[29,11,29,16],[26,11,27,16],[11,9,11,16],[12,10,13,10],[12,11,13,16],[14,1,14,5],[14,11,14,16],[18,9,18,16],[19,0,20,0],[19,1,20,5],[19,6,19,7],[19,8,20,8],[19,9,20,9],[19,10,20,10],[19,11,20,16],[1,0,2,18],[3,10,3,18],[8,0,8,1],[8,2,8,9],[8,10,8,11],[8,12,8,16],[4,0,4,5],[7,0,7,1],[7,2,7,9],[7,12,7,13],[7,14,7,16],[10,0,10,8],[40,0,41,0],[40,1,41,5],[40,6,40,7],[40,8,41,8],[11,0,11,1],[18,0,18,1],[15,1,15,5],[30,1,30,5],[37,1,37,5],[40,9,41,9],[40,10,41,10],[40,11,41,16],[16,1,16,5],[16,11,16,16],[39,9,39,16],[23,1,23,5],[23,11,23,16],[25,0,25,1],[25,9,25,16],[26,0,27,0],[26,1,27,5],[26,6,26,7],[26,8,27,8],[26,9,27,9],[26,10,27,10],[12,18,13,18],[40,18,41,18],[42,1,42,5],[42,11,42,16],[39,0,39,1],[15,11,15,16],[12,0,13,0],[12,1,13,5],[12,6,12,7],[12,8,13,8],[12,9,13,9],[19,18,20,18],[21,1,21,5],[21,11,21,16],[22,1,22,5],[22,11,22,16]]}
[]
[{"$f":"大学名等!A3","v":"　第21回北海道学連剣友剣道大会"}]
[]
[null,null,null,null,null,null,null,null,null,null,"参加申込書"]
[{"$f":"IF(大学名等!C6=\"\",\"\",大学名等!C6)","v":""}]
[]
[]
["　監督名：",null,{"$f":"IF(大学名等!C9=\"\",\"\",大学名等!C9)","v":""},null,null,null,null,null,null,null,"称号・段位",null,{"$f":"IF(大学名等!L9=\"\",\"\",大学名等!L9)","v":""},null,{"$f":"IF(大学名等!O9=\"\",\"\",大学名等!O9)","v":""}]
["　担当者：",null,{"$f":"IF(大学名等!C8=\"\",\"\",大学名等!C8)","v":""},null,null,null,null,null,null,null,"連絡先",null,{"$f":"IF(大学名等!L8=\"\",\"\",大学名等!L8)","v":""}]
[]
["　男子3人制団体戦（55歳以上の部）　"]
["Aチーム",null,null,null,null,null,null,"※",null,"のセルに必要事項を入力してください。"]
["位　置","氏　　　名",null,null,null,null,"フリガナ（カタカナ）",null,"年齢","称号","段位","勤務先",null,null,null,null,null,"備考","懇親会"]
[null,null,null,null,null,null,"姓","名"]
["先鋒",null,null,null,null,null,null,null,null,null,null,null,null,null,null,null,null,null,null,{"$f":"IF(S15=\"○\",1,0)","v":0},{"$f":"IF(S15=\"○\",SUM(①男子40歳未満の部!$T$15:T43)+SUM(②男子40歳以上の部!$T$15:T43)+1,0)","v":0}]
["中堅",null,null,null,null,null,null,null,null,null,null,null,null,null,null,null,null,null,null,{"$f":"IF(S16=\"○\",1,0)","v":0},{"$f":"IF(S16=\"○\",SUM(①男子40歳未満の部!$T$15:T44)+SUM(②男子40歳以上の部!$T$15:T44)+SUM($T$15:T16),0)","v":0}]
["大将",null,null,null,null,null,null,null,null,null,null,null,null,null,null,null,null,null,null,0,{"$f":"IF(S17=\"○\",SUM(①男子40歳未満の部!$T$15:T45)+SUM(②男子40歳以上の部!$T$15:T45)+SUM($T$15:T17),0)","v":0}]
[null,null,null,null,null,null,null,null,null,null,null,null,null,null,null,null,null,null,null,0,{"$f":"IF(S18=\"○\",SUM(①男子40歳未満の部!$T$15:T46)+SUM(②男子40歳以上の部!$T$15:T46)+SUM($T$15:T18),0)","v":0}]
["Bチーム",null,null,null,null,null,null,"※",null,"のセルに必要事項を入力してください。",null,null,null,null,null,null,null,null,null,0,{"$f":"IF(S19=\"○\",SUM(①男子40歳未満の部!$T$15:T47)+SUM(②男子40歳以上の部!$T$15:T47)+SUM($T$15:T19),0)","v":0}]
["位　置","氏　　　名",null,null,null,null,"フリガナ（カタカナ）",null,"年齢","称号","段位","勤務先",null,null,null,null,null,"備考","懇親会",0,{"$f":"IF(S20=\"○\",SUM(①男子40歳未満の部!$T$15:T48)+SUM(②男子40歳以上の部!$T$15:T48)+SUM($T$15:T20),0)","v":0}]
[null,null,null,null,null,null,"姓","名",null,null,null,null,null,null,null,null,null,null,null,0,{"$f":"IF(S21=\"○\",SUM(①男子40歳未満の部!$T$15:T49)+SUM(②男子40歳以上の部!$T$15:T49)+SUM($T$15:T21),0)","v":0}]
["先鋒",null,null,null,null,null,null,null,null,null,null,null,null,null,null,null,null,null,null,0,{"$f":"IF(S22=\"○\",SUM(①男子40歳未満の部!$T$15:T50)+SUM(②男子40歳以上の部!$T$15:T50)+SUM($T$15:T22),0)","v":0}]
["中堅",null,null,null,null,null,null,null,null,null,null,null,null,null,null,null,null,null,null,0,{"$f":"IF(S23=\"○\",SUM(①男子40歳未満の部!$T$15:T51)+SUM(②男子40歳以上の部!$T$15:T51)+SUM($T$15:T23),0)","v":0}]
["大将",null,null,null,null,null,null,null,null,null,null,null,null,null,null,null,null,null,null,0,{"$f":"IF(S24=\"○\",SUM(①男子40歳未満の部!$T$15:T52)+SUM(②男子40歳以上の部!$T$15:T52)+SUM($T$15:T24),0)","v":0}]
[null,null,null,null,null,null,null,null,null,null,null,null,null,null,null,null,null,null,null,0,{"$f":"IF(S25=\"○\",SUM(①男子40歳未満の部!$T$15:T53)+SUM(②男子40歳以上の部!$T$15:T53)+SUM($T$15:T25),0)","v":0}]
["Cチーム",null,null,null,null,null,null,"※",null,"のセルに必要事項を入力してください。",null,null,null,null,null,null,null,null,null,0,{"$f":"IF(S26=\"○\",SUM(①男子40歳未満の部!$T$15:T54)+SUM(②男子40歳以上の部!$T$15:T54)+SUM($T$15:T26),0)","v":0}]
["位　置","氏　　　名",null,null,null,null,"フリガナ（カタカナ）",null,"年齢","称号","段位","勤務先",null,null,null,null,null,"備考","懇親会",0,{"$f":"IF(S27=\"○\",SUM(①男子40歳未満の部!$T$15:T55)+SUM(②男子40歳以上の部!$T$15:T55)+SUM($T$15:T27),0)","v":0}]
[null,null,null,null,null,null,"姓","名",null,null,null,null,null,null,null,null,null,null,null,0,{"$f":"IF(S28=\"○\",SUM(①男子40歳未満の部!$T$15:T56)+SUM(②男子40歳以上の部!$T$15:T56)+SUM($T$15:T28),0)","v":0}]
["先鋒",null,null,null,null,null,null,null,null,null,null,null,null,null,null,null,null,null,null,0,{"$f":"IF(S29=\"○\",SUM(①男子40歳未満の部!$T$15:T57)+SUM(②男子40歳以上の部!$T$15:T57)+SUM($T$15:T29),0)","v":0}]
["中堅",null,null,null,null,null,null,null,null,null,null,null,null,null,null,null,null,null,null,0,{"$f":"IF(S30=\"○\",SUM(①男子40歳未満の部!$T$15:T58)+SUM(②男子40歳以上の部!$T$15:T58)+SUM($T$15:T30),0)","v":0}]
["大将",null,null,null,null,null,null,null,null,null,null,null,null,null,null,null,null,null,null,0,{"$f":"IF(S31=\"○\",SUM(①男子40歳未満の部!$T$15:T59)+SUM(②男子40歳以上の部!$T$15:T59)+SUM($T$15:T31),0)","v":0}]
[null,null,null,null,null,null,null,null,null,null,null,null,null,null,null,null,null,null,null,0,{"$f":"IF(S32=\"○\",SUM(①男子40歳未満の部!$T$15:T60)+SUM(②男子40歳以上の部!$T$15:T60)+SUM($T$15:T32),0)","v":0}]
["Dチーム",null,null,null,null,null,null,"※",null,"のセルに必要事項を入力してください。",null,null,null,null,null,null,null,null,null,0,{"$f":"IF(S33=\"○\",SUM(①男子40歳未満の部!$T$15:T61)+SUM(②男子40歳以上の部!$T$15:T61)+SUM($T$15:T33),0)","v":0}]
["位　置","氏　　　名",null,null,null,null,"フリガナ（カタカナ）",null,"年齢","称号","段位","勤務先",null,null,null,null,null,"備考","懇親会",0,{"$f":"IF(S34=\"○\",SUM(①男子40歳未満の部!$T$15:T62)+SUM(②男子40歳以上の部!$T$15:T62)+SUM($T$15:T34),0)","v":0}]
[null,null,null,null,null,null,"姓","名",null,null,null,null,null,null,null,null,null,null,null,0,{"$f":"IF(S35=\"○\",SUM(①男子40歳未満の部!$T$15:T63)+SUM(②男子40歳以上の部!$T$15:T63)+SUM($T$15:T35),0)","v":0}]
["先鋒",null,null,null,null,null,null,null,null,null,null,null,null,null,null,null,null,null,null,0,{"$f":"IF(S36=\"○\",SUM(①男子40歳未満の部!$T$15:T64)+SUM(②男子40歳以上の部!$T$15:T64)+SUM($T$15:T36),0)","v":0}]
["中堅",null,null,null,null,null,null,null,null,null,null,null,null,null,null,null,null,null,null,0,{"$f":"IF(S37=\"○\",SUM(①男子40歳未満の部!$T$15:T65)+SUM(②男子40歳以上の部!$T$15:T65)+SUM($T$15:T37),0)","v":0}]
["大将",null,null,null,null,null,null,null,null,null,null,null,null,null,null,null,null,null,null,0,{"$f":"IF(S38=\"○\",SUM(①男子40歳未満の部!$T$15:T66)+SUM(②男子40歳以上の部!$T$15:T66)+SUM($T$15:T38),0)","v":0}]
[null,null,null,null,null,null,null,null,null,null,null,null,null,null,null,null,null,null,null,0,{"$f":"IF(S39=\"○\",SUM(①男子40歳未満の部!$T$15:T67)+SUM(②男子40歳以上の部!$T$15:T67)+SUM($T$15:T39),0)","v":0}]
["補欠",null,null,null,null,null,null,"※",null,"のセルに必要事項を入力してください。",null,null,null,null,null,null,null,null,null,0,{"$f":"IF(S40=\"○\",SUM(①男子40歳未満の部!$T$15:T68)+SUM(②男子40歳以上の部!$T$15:T68)+SUM($T$15:T40),0)","v":0}]
[null,"氏　　　名",null,null,null,null,"ふりがな（ひらがな）",null,"年齢","称号","段位","勤務先",null,null,null,null,null,"備考","懇親会",0,{"$f":"IF(S41=\"○\",SUM(①男子40歳未満の部!$T$15:T69)+SUM(②男子40歳以上の部!$T$15:T69)+SUM($T$15:T41),0)","v":0}]
[null,null,null,null,null,null,"姓","名",null,null,null,null,null,null,null,null,null,null,null,0,{"$f":"IF(S42=\"○\",SUM(①男子40歳未満の部!$T$15:T70)+SUM(②男子40歳以上の部!$T$15:T70)+SUM($T$15:T42),0)","v":0}]
[null,null,null,null,null,null,null,null,null,null,null,null,null,null,null,null,null,null,null,0,{"$f":"IF(S43=\"○\",SUM(①男子40歳未満の部!$T$15:T71)+SUM(②男子40歳以上の部!$T$15:T71)+SUM($T$15:T43),0)","v":0}]

{"sheet":"④女子の部","index":4,"n_rows":43,"n_cols":21,"rows_kept":43,"cut":false,"hidden":false,"merged":[[12,17,13,17],[19,17,20,17],[26,17,27,17],[33,17,34,17],[40,17,41,17],[33,10,34,10],[33,11,34,16],[37,1,37,5],[37,11,37,16],[33,18,34,18],[35,1,35,5],[35,11,35,16],[36,1,36,5],[36,11,36,16],[33,0,34,0],[33,1,34,5],[33,6,33,7],[33,8,34,8],[33,9,34,9],[26,18,27,18],[28,1,28,5],[28,11,28,16],[29,1,29,5],[29,11,29,16],[10,0,10,8],[25,0,25,1],[25,9,25,16],[26,0,27,0],[26,1,27,5],[26,6,26,7],[26,8,27,8],[26,9,27,9],[26,10,27,10],[26,11,27,16],[19,9,20,9],[14,1,14,5],[14,11,14,16],[15,1,15,5],[15,11,15,16],[19,11,20,16],[7,14,7,16],[8,0,8,1],[8,2,8,9],[8,10,8,11],[8,12,8,16],[1,0,2,18],[3,10,3,18],[12,0,13,0],[12,1,13,5],[12,6,12,7],[12,8,13,8],[12,9,13,9],[12,18,13,18],[12,10,13,10],[12,11,13,16],[11,9,11,16],[11,0,11,1],[4,0,4,5],[7,0,7,1],[7,2,7,9],[7,12,7,13],[16,11,16,16],[18,9,18,16],[42,1,42,5],[42,11,42,16],[40,9,41,9],[40,10,41,10],[40,11,41,16],[18,0,18,1],[19,10,20,10],[19,0,20,0],[19,1,20,5],[16,1,16,5],[30,1,30,5],[30,11,30,16],[32,0,32,1],[32,9,32,16],[19,18,20,18],[40,18,41,18],[21,1,21,5],[21,11,21,16],[22,1,22,5],[22,11,22,16],[23,1,23,5],[23,11,23,16],[39,9,39,16],[39,0,39,1],[40,0,41,0],[40,1,41,5],[40,6,40,7],[40,8,41,8],[19,6,19,7],[19,8,20,8]]}
[]
[{"$f":"大学名等!A3","v":"　第21回北海道学連剣友剣道大会"}]
[]
[null,null,null,null,null,null,null,null,null,null,"　参加申込書"]
[{"$f":"IF(大学名等!C6=\"\",\"\",大学名等!C6)","v":""}]
[]
[]
["　監督名：",null,{"$f":"IF(大学名等!C9=\"\",\"\",大学名等!C9)","v":""},null,null,null,null,null,null,null,"称号・段位",null,{"$f":"IF(大学名等!L9=\"\",\"\",大学名等!L9)","v":""},null,{"$f":"IF(大学名等!O9=\"\",\"\",大学名等!O9)","v":""}]
["　担当者：",null,{"$f":"IF(大学名等!C8=\"\",\"\",大学名等!C8)","v":""},null,null,null,null,null,null,null,"連絡先",null,{"$f":"IF(大学名等!L8=\"\",\"\",大学名等!L8)","v":""}]
[]
["　女子3人制団体戦　"]
["Aチーム",null,{"$f":"④女子の部!G15&\"　\"","v":"　"},null,null,null,null,"※",null,"のセルに必要事項を入力してください。"]
["位　置","氏　　　名",null,null,null,null,"フリガナ（カタカナ）",null,"年齢","称号","段位","勤務先",null,null,null,null,null,"備考","懇親会"]
[null,null,null,null,null,null,"姓","名"]
["先鋒",null,null,null,null,null,null,null,null,null,null,null,null,null,null,null,null,null,null,{"$f":"IF(S15=\"○\",1,0)","v":0},{"$f":"IF(S15=\"○\",SUM(①男子40歳未満の部!$T$15:T43)+SUM(②男子40歳以上の部!$T$15:T43)+SUM(③男子55歳以上の部!$T$15:T43)+1,0)","v":0}]
["中堅",null,null,null,null,null,null,null,null,null,null,null,null,null,null,null,null,null,null,{"$f":"IF(S16=\"○\",1,0)","v":0},{"$f":"IF(S16=\"○\",SUM(①男子40歳未満の部!$T$15:T44)+SUM(②男子40歳以上の部!$T$15:T44)+SUM(③男子55歳以上の部!$T$15:T44)+SUM($T$15:T16),0)","v":0}]
["大将",null,null,null,null,null,null,null,null,null,null,null,null,null,null,null,null,null,null,0,{"$f":"IF(S17=\"○\",SUM(①男子40歳未満の部!$T$15:T45)+SUM(②男子40歳以上の部!$T$15:T45)+SUM(③男子55歳以上の部!$T$15:T45)+SUM($T$15:T17),0)","v":0}]
[null,null,null,null,null,null,null,null,null,null,null,null,null,null,null,null,null,null,null,0,{"$f":"IF(S18=\"○\",SUM(①男子40歳未満の部!$T$15:T46)+SUM(②男子40歳以上の部!$T$15:T46)+SUM(③男子55歳以上の部!$T$15:T46)+SUM($T$15:T18),0)","v":0}]
["Bチーム",null,null,null,null,null,null,"※",null,"のセルに必要事項を入力してください。",null,null,null,null,null,null,null,null,null,0,{"$f":"IF(S19=\"○\",SUM(①男子40歳未満の部!$T$15:T47)+SUM(②男子40歳以上の部!$T$15:T47)+SUM(③男子55歳以上の部!$T$15:T47)+SUM($T$15:T19),0)","v":0}]
["位　置","氏　　　名",null,null,null,null,"フリガナ（カタカナ）",null,"年齢","称号","段位","勤務先",null,null,null,null,null,"備考","懇親会",0,{"$f":"IF(S20=\"○\",SUM(①男子40歳未満の部!$T$15:T48)+SUM(②男子40歳以上の部!$T$15:T48)+SUM(③男子55歳以上の部!$T$15:T48)+SUM($T$15:T20),0)","v":0}]
[null,null,null,null,null,null,"姓","名",null,null,null,null,null,null,null,null,null,null,null,0,{"$f":"IF(S21=\"○\",SUM(①男子40歳未満の部!$T$15:T49)+SUM(②男子40歳以上の部!$T$15:T49)+SUM(③男子55歳以上の部!$T$15:T49)+SUM($T$15:T21),0)","v":0}]
["先鋒",null,null,null,null,null,null,null,null,null,null,null,null,null,null,null,null,null,null,0,{"$f":"IF(S22=\"○\",SUM(①男子40歳未満の部!$T$15:T50)+SUM(②男子40歳以上の部!$T$15:T50)+SUM(③男子55歳以上の部!$T$15:T50)+SUM($T$15:T22),0)","v":0}]
["中堅",null,null,null,null,null,null,null,null,null,null,null,null,null,null,null,null,null,null,0,{"$f":"IF(S23=\"○\",SUM(①男子40歳未満の部!$T$15:T51)+SUM(②男子40歳以上の部!$T$15:T51)+SUM(③男子55歳以上の部!$T$15:T51)+SUM($T$15:T23),0)","v":0}]
["大将",null,null,null,null,null,null,null,null,null,null,null,null,null,null,null,null,null,null,0,{"$f":"IF(S24=\"○\",SUM(①男子40歳未満の部!$T$15:T52)+SUM(②男子40歳以上の部!$T$15:T52)+SUM(③男子55歳以上の部!$T$15:T52)+SUM($T$15:T24),0)","v":0}]
[null,null,null,null,null,null,null,null,null,null,null,null,null,null,null,null,null,null,null,0,{"$f":"IF(S25=\"○\",SUM(①男子40歳未満の部!$T$15:T53)+SUM(②男子40歳以上の部!$T$15:T53)+SUM(③男子55歳以上の部!$T$15:T53)+SUM($T$15:T25),0)","v":0}]
["Cチーム",null,null,null,null,null,null,"※",null,"のセルに必要事項を入力してください。",null,null,null,null,null,null,null,null,null,0,{"$f":"IF(S26=\"○\",SUM(①男子40歳未満の部!$T$15:T54)+SUM(②男子40歳以上の部!$T$15:T54)+SUM(③男子55歳以上の部!$T$15:T54)+SUM($T$15:T26),0)","v":0}]
["位　置","氏　　　名",null,null,null,null,"フリガナ（カタカナ）",null,"年齢","称号","段位","勤務先",null,null,null,null,null,"備考","懇親会",0,{"$f":"IF(S27=\"○\",SUM(①男子40歳未満の部!$T$15:T55)+SUM(②男子40歳以上の部!$T$15:T55)+SUM(③男子55歳以上の部!$T$15:T55)+SUM($T$15:T27),0)","v":0}]
[null,null,null,null,null,null,"姓","名",null,null,null,null,null,null,null,null,null,null,null,0,{"$f":"IF(S28=\"○\",SUM(①男子40歳未満の部!$T$15:T56)+SUM(②男子40歳以上の部!$T$15:T56)+SUM(③男子55歳以上の部!$T$15:T56)+SUM($T$15:T28),0)","v":0}]
["先鋒",null,null,null,null,null,null,null,null,null,null,null,null,null,null,null,null,null,null,0,{"$f":"IF(S29=\"○\",SUM(①男子40歳未満の部!$T$15:T57)+SUM(②男子40歳以上の部!$T$15:T57)+SUM(③男子55歳以上の部!$T$15:T57)+SUM($T$15:T29),0)","v":0}]
["中堅",null,null,null,null,null,null,null,null,null,null,null,null,null,null,null,null,null,null,0,{"$f":"IF(S30=\"○\",SUM(①男子40歳未満の部!$T$15:T58)+SUM(②男子40歳以上の部!$T$15:T58)+SUM(③男子55歳以上の部!$T$15:T58)+SUM($T$15:T30),0)","v":0}]
["大将",null,null,null,null,null,null,null,null,null,null,null,null,null,null,null,null,null,null,0,{"$f":"IF(S31=\"○\",SUM(①男子40歳未満の部!$T$15:T59)+SUM(②男子40歳以上の部!$T$15:T59)+SUM(③男子55歳以上の部!$T$15:T59)+SUM($T$15:T31),0)","v":0}]
[null,null,null,null,null,null,null,null,null,null,null,null,null,null,null,null,null,null,null,0,{"$f":"IF(S32=\"○\",SUM(①男子40歳未満の部!$T$15:T60)+SUM(②男子40歳以上の部!$T$15:T60)+SUM(③男子55歳以上の部!$T$15:T60)+SUM($T$15:T32),0)","v":0}]
["Dチーム",null,null,null,null,null,null,"※",null,"のセルに必要事項を入力してください。",null,null,null,null,null,null,null,null,null,0,{"$f":"IF(S33=\"○\",SUM(①男子40歳未満の部!$T$15:T61)+SUM(②男子40歳以上の部!$T$15:T61)+SUM(③男子55歳以上の部!$T$15:T61)+SUM($T$15:T33),0)","v":0}]
["位　置","氏　　　名",null,null,null,null,"フリガナ（カタカナ）",null,"年齢","称号","段位","勤務先",null,null,null,null,null,"備考","懇親会",0,{"$f":"IF(S34=\"○\",SUM(①男子40歳未満の部!$T$15:T62)+SUM(②男子40歳以上の部!$T$15:T62)+SUM(③男子55歳以上の部!$T$15:T62)+SUM($T$15:T34),0)","v":0}]
[null,null,null,null,null,null,"姓","名",null,null,null,null,null,null,null,null,null,null,null,0,{"$f":"IF(S35=\"○\",SUM(①男子40歳未満の部!$T$15:T63)+SUM(②男子40歳以上の部!$T$15:T63)+SUM(③男子55歳以上の部!$T$15:T63)+SUM($T$15:T35),0)","v":0}]
["先鋒"]
["中堅"]
["大将"]
[null,null,null,null,null,null,null,null,null,null,null,null,null,null,null,null,null,null,null,0,{"$f":"IF(S39=\"○\",SUM(①男子40歳未満の部!$T$15:T67)+SUM(②男子40歳以上の部!$T$15:T67)+SUM(③男子55歳以上の部!$T$15:T67)+SUM($T$15:T39),0)","v":0}]
["補欠",null,null,null,null,null,null,"※",null,"のセルに必要事項を入力してください。",null,null,null,null,null,null,null,null,null,0,{"$f":"IF(S40=\"○\",SUM(①男子40歳未満の部!$T$15:T68)+SUM(②男子40歳以上の部!$T$15:T68)+SUM(③男子55歳以上の部!$T$15:T68)+SUM($T$15:T40),0)","v":0}]
[null,"氏　　　名",null,null,null,null,"フリガナ（カタカナ）",null,"年齢","称号","段位","勤務先",null,null,null,null,null,"備考","懇親会",0,{"$f":"IF(S41=\"○\",SUM(①男子40歳未満の部!$T$15:T69)+SUM(②男子40歳以上の部!$T$15:T69)+SUM(③男子55歳以上の部!$T$15:T69)+SUM($T$15:T41),0)","v":0}]
[null,null,null,null,null,null,"姓","名",null,null,null,null,null,null,null,null,null,null,null,0,{"$f":"IF(S42=\"○\",SUM(①男子40歳未満の部!$T$15:T70)+SUM(②男子40歳以上の部!$T$15:T70)+SUM(③男子55歳以上の部!$T$15:T70)+SUM($T$15:T42),0)","v":0}]
[null,null,null,null,null,null,null,null,null,null,null,null,null,null,null,null,null,null,null,0,{"$f":"IF(S43=\"○\",SUM(①男子40歳未満の部!$T$15:T71)+SUM(②男子40歳以上の部!$T$15:T71)+SUM(③男子55歳以上の部!$T$15:T71)+SUM($T$15:T43),0)","v":0}]

{"sheet":"11人対抗戦推薦選手","index":5,"n_rows":30,"n_cols":19,"rows_kept":30,"cut":false,"hidden":false,"merged":[[22,15,23,16],[24,15,24,16],[25,15,25,16],[26,15,26,16],[27,15,27,16],[24,13,24,14],[25,13,25,14],[26,13,26,14],[27,13,27,14],[28,13,28,14],[28,15,28,16],[29,15,29,16],[26,1,26,5],[27,1,27,5],[26,11,26,12],[27,11,27,12],[28,1,28,5],[29,1,29,5],[28,11,28,12],[29,11,29,12],[29,13,29,14],[24,1,24,5],[25,1,25,5],[22,11,23,12],[24,11,24,12],[25,11,25,12],[22,13,23,14],[22,0,23,0],[22,1,23,5],[22,6,22,7],[22,8,23,8],[22,9,23,9],[22,10,23,10],[1,0,2,16],[3,10,3,15],[4,0,4,5],[7,0,7,1],[7,2,7,9],[7,12,7,13],[7,14,7,16],[12,0,13,0],[12,1,13,5],[12,6,12,7],[12,8,13,8],[12,9,13,9],[8,0,8,1],[8,2,8,9],[8,10,8,11],[8,12,8,16],[10,0,10,8],[16,1,16,5],[16,11,16,16],[17,1,17,5],[17,11,17,16],[12,10,13,10],[12,11,13,16],[14,1,14,5],[14,11,14,16],[15,1,15,5],[15,11,15,16]]}
[]
[{"$f":"大学名等!A3","v":"　第21回北海道学連剣友剣道大会"}]
[]
[null,null,null,null,null,null,null,null,null,null,"　参加申込書"]
[{"$f":"IF(大学名等!C6=\"\",\"\",大学名等!C6)","v":""}]
[]
[]
["　監督名：",null,{"$f":"IF(大学名等!C9=\"\",\"\",大学名等!C9)","v":""},null,null,null,null,null,null,null,"称号・段位",null,{"$f":"IF(大学名等!L9=\"\",\"\",大学名等!L9)","v":""},null,{"$f":"IF(大学名等!O9=\"\",\"\",大学名等!O9)","v":""}]
["　担当者：",null,{"$f":"IF(大学名等!C8=\"\",\"\",大学名等!C8)","v":""},null,null,null,null,null,null,null,"連絡先",null,{"$f":"IF(大学名等!L8=\"\",\"\",大学名等!L8)","v":""}]
[]
["11人対抗戦推薦選手"]
[]
[null,"氏　　　名",null,null,null,null,"ふりがな（ひらがな）",null,"年齢","称号","段位","勤務先"]
[null,null,null,null,null,null,"姓","名"]
["男子1"]
["男子2"]
["女子1"]
["女子2"]
[null,null,null,null,null,null,null,"※","色のついたセルに必要事項を入力してください。"]
[]
["審判および稽古のみ参加される方"]
[]
[null,"氏　　　名",null,null,null,null,"ふりがな（ひらがな）",null,"年齢","称号","段位","稽古",null,"審判",null,"懇親会"]
[null,null,null,null,null,null,"姓","名"]
[null,null,null,null,null,null,null,null,null,null,null,null,null,null,null,null,null,{"$f":"IF(P25=\"○\",1,0)","v":0},{"$f":"IF(P25=\"○\",SUM(①男子40歳未満の部!$T$15:T71)+SUM(②男子40歳以上の部!$T$15:T71)+SUM(③男子55歳以上の部!$T$15:T71)+SUM(④女子の部!$T$15:T43)+1,0)","v":0}]
[null,null,null,null,null,null,null,null,null,null,null,null,null,null,null,null,null,{"$f":"IF(P26=\"○\",1,0)","v":0},{"$f":"IF(P26=\"○\",SUM(①男子40歳未満の部!$T$15:T72)+SUM(②男子40歳以上の部!$T$15:T72)+SUM(③男子55歳以上の部!$T$15:T72)+SUM(④女子の部!$T$15:T44)+SUM($R$25:R26),0)","v":0}]
[null,null,null,null,null,null,null,null,null,null,null,null,null,null,null,null,null,0,{"$f":"IF(P27=\"○\",SUM(①男子40歳未満の部!$T$15:T73)+SUM(②男子40歳以上の部!$T$15:T73)+SUM(③男子55歳以上の部!$T$15:T73)+SUM(④女子の部!$T$15:T45)+SUM($R$25:R27),0)","v":0}]
[null,null,null,null,null,null,null,null,null,null,null,null,null,null,null,null,null,0,{"$f":"IF(P28=\"○\",SUM(①男子40歳未満の部!$T$15:T74)+SUM(②男子40歳以上の部!$T$15:T74)+SUM(③男子55歳以上の部!$T$15:T74)+SUM(④女子の部!$T$15:T46)+SUM($R$25:R28),0)","v":0}]
[null,null,null,null,null,null,null,null,null,null,null,null,null,null,null,null,null,0,{"$f":"IF(P29=\"○\",SUM(①男子40歳未満の部!$T$15:T75)+SUM(②男子40歳以上の部!$T$15:T75)+SUM(③男子55歳以上の部!$T$15:T75)+SUM(④女子の部!$T$15:T47)+SUM($R$25:R29),0)","v":0}]
[null,null,null,null,null,null,null,null,null,null,null,null,null,null,null,null,null,0,{"$f":"IF(P30=\"○\",SUM(①男子40歳未満の部!$T$15:T76)+SUM(②男子40歳以上の部!$T$15:T76)+SUM(③男子55歳以上の部!$T$15:T76)+SUM(④女子の部!$T$15:T48)+SUM($R$25:R30),0)","v":0}]

{"sheet":"プログラム貼付用","index":6,"n_rows":61,"n_cols":10,"rows_kept":61,"cut":false,"hidden":false,"merged":[[30,1,30,9],[40,1,42,1],[45,1,45,9],[46,1,48,1],[55,1,57,1],[31,1,33,1],[34,1,36,1],[37,1,39,1],[49,1,51,1],[52,1,54,1],[15,1,15,9],[16,1,18,1],[19,1,21,1],[22,1,24,1],[25,1,27,1],[0,1,0,9],[1,1,3,1],[4,1,6,1],[7,1,9,1],[10,1,12,1]]}
[null,"　男子3人制団体戦（40歳未満の部）　"]
[null,{"$f":"大学名等!$C$6&\"A\"","v":"A"},{"$f":"IF(①男子40歳未満の部!A15=\"\",\"\",①男子40歳未満の部!A15)","v":"先鋒"},{"$f":"IF(①男子40歳未満の部!B15=\"\",\"\",①男子40歳未満の部!B15)","v":""},{"$f":"IF(①男子40歳未満の部!I15=\"\",\"\",①男子40歳未満の部!I15)","v":""},{"$f":"IF(①男子40歳未満の部!J15=\"\",\"\",①男子40歳未満の部!J15)","v":""},{"$f":"IF(①男子40歳未満の部!K15=\"\",\"\",①男子40歳未満の部!K15)","v":""},{"$f":"IF(①男子40歳未満の部!L15=\"\",\"\",①男子40歳未満の部!L15)","v":""},{"$f":"IF(①男子40歳未満の部!R15=\"\",\"\",①男子40歳未満の部!R15)","v":""},{"$f":"IF(D2=\"\",0,1)","v":0}]
[null,null,{"$f":"IF(①男子40歳未満の部!A16=\"\",\"\",①男子40歳未満の部!A16)","v":"中堅"},{"$f":"IF(①男子40歳未満の部!B16=\"\",\"\",①男子40歳未満の部!B16)","v":""},{"$f":"IF(①男子40歳未満の部!I16=\"\",\"\",①男子40歳未満の部!I16)","v":""},{"$f":"IF(①男子40歳未満の部!J16=\"\",\"\",①男子40歳未満の部!J16)","v":""},{"$f":"IF(①男子40歳未満の部!K16=\"\",\"\",①男子40歳未満の部!K16)","v":""},{"$f":"IF(①男子40歳未満の部!L16=\"\",\"\",①男子40歳未満の部!L16)","v":""},{"$f":"IF(①男子40歳未満の部!R16=\"\",\"\",①男子40歳未満の部!R16)","v":""},{"$f":"IF(D3=\"\",0,1)","v":0}]
[null,null,{"$f":"IF(①男子40歳未満の部!A17=\"\",\"\",①男子40歳未満の部!A17)","v":"大将"},{"$f":"IF(①男子40歳未満の部!B17=\"\",\"\",①男子40歳未満の部!B17)","v":""},{"$f":"IF(①男子40歳未満の部!I17=\"\",\"\",①男子40歳未満の部!I17)","v":""},{"$f":"IF(①男子40歳未満の部!J17=\"\",\"\",①男子40歳未満の部!J17)","v":""},{"$f":"IF(①男子40歳未満の部!K17=\"\",\"\",①男子40歳未満の部!K17)","v":""},{"$f":"IF(①男子40歳未満の部!L17=\"\",\"\",①男子40歳未満の部!L17)","v":""},{"$f":"IF(①男子40歳未満の部!R17=\"\",\"\",①男子40歳未満の部!R17)","v":""},0]
[null,{"$f":"大学名等!C6&\"B\"","v":"B"},{"$f":"IF(①男子40歳未満の部!A22=\"\",\"\",①男子40歳未満の部!A22)","v":"先鋒"},{"$f":"IF(①男子40歳未満の部!B22=\"\",\"\",①男子40歳未満の部!B22)","v":""},{"$f":"IF(①男子40歳未満の部!I22=\"\",\"\",①男子40歳未満の部!I22)","v":""},{"$f":"IF(①男子40歳未満の部!J22=\"\",\"\",①男子40歳未満の部!J22)","v":""},{"$f":"IF(①男子40歳未満の部!K22=\"\",\"\",①男子40歳未満の部!K22)","v":""},{"$f":"IF(①男子40歳未満の部!L22=\"\",\"\",①男子40歳未満の部!L22)","v":""},{"$f":"IF(①男子40歳未満の部!R22=\"\",\"\",①男子40歳未満の部!R22)","v":""},0]
[null,null,{"$f":"IF(①男子40歳未満の部!A23=\"\",\"\",①男子40歳未満の部!A23)","v":"中堅"},{"$f":"IF(①男子40歳未満の部!B23=\"\",\"\",①男子40歳未満の部!B23)","v":""},{"$f":"IF(①男子40歳未満の部!I23=\"\",\"\",①男子40歳未満の部!I23)","v":""},{"$f":"IF(①男子40歳未満の部!J23=\"\",\"\",①男子40歳未満の部!J23)","v":""},{"$f":"IF(①男子40歳未満の部!K23=\"\",\"\",①男子40歳未満の部!K23)","v":""},{"$f":"IF(①男子40歳未満の部!L23=\"\",\"\",①男子40歳未満の部!L23)","v":""},{"$f":"IF(①男子40歳未満の部!R23=\"\",\"\",①男子40歳未満の部!R23)","v":""},0]
[null,null,{"$f":"IF(①男子40歳未満の部!A24=\"\",\"\",①男子40歳未満の部!A24)","v":"大将"},{"$f":"IF(①男子40歳未満の部!B24=\"\",\"\",①男子40歳未満の部!B24)","v":""},{"$f":"IF(①男子40歳未満の部!I24=\"\",\"\",①男子40歳未満の部!I24)","v":""},{"$f":"IF(①男子40歳未満の部!J24=\"\",\"\",①男子40歳未満の部!J24)","v":""},{"$f":"IF(①男子40歳未満の部!K24=\"\",\"\",①男子40歳未満の部!K24)","v":""},{"$f":"IF(①男子40歳未満の部!L24=\"\",\"\",①男子40歳未満の部!L24)","v":""},{"$f":"IF(①男子40歳未満の部!R24=\"\",\"\",①男子40歳未満の部!R24)","v":""},0]
[null,{"$f":"大学名等!C6&\"C\"","v":"C"},{"$f":"IF(①男子40歳未満の部!A29=\"\",\"\",①男子40歳未満の部!A29)","v":"先鋒"},{"$f":"IF(①男子40歳未満の部!B29=\"\",\"\",①男子40歳未満の部!B29)","v":""},{"$f":"IF(①男子40歳未満の部!I29=\"\",\"\",①男子40歳未満の部!I29)","v":""},{"$f":"IF(①男子40歳未満の部!J29=\"\",\"\",①男子40歳未満の部!J29)","v":""},{"$f":"IF(①男子40歳未満の部!K29=\"\",\"\",①男子40歳未満の部!K29)","v":""},{"$f":"IF(①男子40歳未満の部!L29=\"\",\"\",①男子40歳未満の部!L29)","v":""},{"$f":"IF(①男子40歳未満の部!R29=\"\",\"\",①男子40歳未満の部!R29)","v":""},0]
[null,null,{"$f":"IF(①男子40歳未満の部!A30=\"\",\"\",①男子40歳未満の部!A30)","v":"中堅"},{"$f":"IF(①男子40歳未満の部!B30=\"\",\"\",①男子40歳未満の部!B30)","v":""},{"$f":"IF(①男子40歳未満の部!I30=\"\",\"\",①男子40歳未満の部!I30)","v":""},{"$f":"IF(①男子40歳未満の部!J30=\"\",\"\",①男子40歳未満の部!J30)","v":""},{"$f":"IF(①男子40歳未満の部!K30=\"\",\"\",①男子40歳未満の部!K30)","v":""},{"$f":"IF(①男子40歳未満の部!L30=\"\",\"\",①男子40歳未満の部!L30)","v":""},{"$f":"IF(①男子40歳未満の部!R30=\"\",\"\",①男子40歳未満の部!R30)","v":""},0]
[null,null,{"$f":"IF(①男子40歳未満の部!A31=\"\",\"\",①男子40歳未満の部!A31)","v":"大将"},{"$f":"IF(①男子40歳未満の部!B31=\"\",\"\",①男子40歳未満の部!B31)","v":""},{"$f":"IF(①男子40歳未満の部!I31=\"\",\"\",①男子40歳未満の部!I31)","v":""},{"$f":"IF(①男子40歳未満の部!J31=\"\",\"\",①男子40歳未満の部!J31)","v":""},{"$f":"IF(①男子40歳未満の部!K31=\"\",\"\",①男子40歳未満の部!K31)","v":""},{"$f":"IF(①男子40歳未満の部!L31=\"\",\"\",①男子40歳未満の部!L31)","v":""},{"$f":"IF(①男子40歳未満の部!R31=\"\",\"\",①男子40歳未満の部!R31)","v":""},0]
[null,{"$f":"大学名等!C6&\"D\"","v":"D"},{"$f":"IF(①男子40歳未満の部!A36=\"\",\"\",①男子40歳未満の部!A36)","v":"先鋒"},{"$f":"IF(①男子40歳未満の部!B36=\"\",\"\",①男子40歳未満の部!B36)","v":""},{"$f":"IF(①男子40歳未満の部!I36=\"\",\"\",①男子40歳未満の部!I36)","v":""},{"$f":"IF(①男子40歳未満の部!J36=\"\",\"\",①男子40歳未満の部!J36)","v":""},{"$f":"IF(①男子40歳未満の部!K36=\"\",\"\",①男子40歳未満の部!K36)","v":""},{"$f":"IF(①男子40歳未満の部!L36=\"\",\"\",①男子40歳未満の部!L36)","v":""},{"$f":"IF(①男子40歳未満の部!R36=\"\",\"\",①男子40歳未満の部!R36)","v":""},0]
[null,null,{"$f":"IF(①男子40歳未満の部!A37=\"\",\"\",①男子40歳未満の部!A37)","v":"中堅"},{"$f":"IF(①男子40歳未満の部!B37=\"\",\"\",①男子40歳未満の部!B37)","v":""},{"$f":"IF(①男子40歳未満の部!I37=\"\",\"\",①男子40歳未満の部!I37)","v":""},{"$f":"IF(①男子40歳未満の部!J37=\"\",\"\",①男子40歳未満の部!J37)","v":""},{"$f":"IF(①男子40歳未満の部!K37=\"\",\"\",①男子40歳未満の部!K29)","v":""},{"$f":"IF(①男子40歳未満の部!L37=\"\",\"\",①男子40歳未満の部!L37)","v":""},{"$f":"IF(①男子40歳未満の部!R37=\"\",\"\",①男子40歳未満の部!R37)","v":""},0]
[null,null,{"$f":"IF(①男子40歳未満の部!A38=\"\",\"\",①男子40歳未満の部!A38)","v":"大将"},{"$f":"IF(①男子40歳未満の部!B38=\"\",\"\",①男子40歳未満の部!B38)","v":""},{"$f":"IF(①男子40歳未満の部!I38=\"\",\"\",①男子40歳未満の部!I38)","v":""},{"$f":"IF(①男子40歳未満の部!J38=\"\",\"\",①男子40歳未満の部!J38)","v":""},{"$f":"IF(①男子40歳未満の部!K38=\"\",\"\",①男子40歳未満の部!K30)","v":""},{"$f":"IF(①男子40歳未満の部!L38=\"\",\"\",①男子40歳未満の部!L38)","v":""},{"$f":"IF(①男子40歳未満の部!R38=\"\",\"\",①男子40歳未満の部!R38)","v":""},0]
[null,null,"補欠",{"$f":"IF(①男子40歳未満の部!B43=\"\",\"\",①男子40歳未満の部!B43)","v":""},{"$f":"IF(①男子40歳未満の部!I43=\"\",\"\",①男子40歳未満の部!I43)","v":""},{"$f":"IF(①男子40歳未満の部!J43=\"\",\"\",①男子40歳未満の部!J43)","v":""},{"$f":"IF(①男子40歳未満の部!K43=\"\",\"\",①男子40歳未満の部!K43)","v":""},{"$f":"IF(①男子40歳未満の部!L43=\"\",\"\",①男子40歳未満の部!L43)","v":""},{"$f":"IF(①男子40歳未満の部!R43=\"\",\"\",①男子40歳未満の部!R43)","v":""},0]
[]
[null,"　男子3人制団体戦（40歳以上の部）　"]
[null,{"$f":"大学名等!$C$6&\"A\"","v":"A"},{"$f":"IF(②男子40歳以上の部!A15=\"\",\"\",②男子40歳以上の部!A15)","v":"先鋒"},{"$f":"IF(②男子40歳以上の部!B15=\"\",\"\",②男子40歳以上の部!B15)","v":""},{"$f":"IF(②男子40歳以上の部!I15=\"\",\"\",②男子40歳以上の部!I15)","v":""},{"$f":"IF(②男子40歳以上の部!J15=\"\",\"\",②男子40歳以上の部!J15)","v":""},{"$f":"IF(②男子40歳以上の部!K15=\"\",\"\",②男子40歳以上の部!K15)","v":""},{"$f":"IF(②男子40歳以上の部!L15=\"\",\"\",②男子40歳以上の部!L15)","v":""},{"$f":"IF(②男子40歳以上の部!R15=\"\",\"\",②男子40歳以上の部!R15)","v":""},{"$f":"IF(D17=\"\",0,1)","v":0}]
[null,null,{"$f":"IF(②男子40歳以上の部!A16=\"\",\"\",②男子40歳以上の部!A16)","v":"中堅"},{"$f":"IF(②男子40歳以上の部!B16=\"\",\"\",②男子40歳以上の部!B16)","v":""},{"$f":"IF(②男子40歳以上の部!I16=\"\",\"\",②男子40歳以上の部!I16)","v":""},{"$f":"IF(②男子40歳以上の部!J16=\"\",\"\",②男子40歳以上の部!J16)","v":""},{"$f":"IF(②男子40歳以上の部!K16=\"\",\"\",②男子40歳以上の部!K16)","v":""},{"$f":"IF(②男子40歳以上の部!L16=\"\",\"\",②男子40歳以上の部!L16)","v":""},{"$f":"IF(②男子40歳以上の部!R16=\"\",\"\",②男子40歳以上の部!R16)","v":""},{"$f":"IF(D18=\"\",0,1)","v":0}]
[null,null,{"$f":"IF(②男子40歳以上の部!A17=\"\",\"\",②男子40歳以上の部!A17)","v":"大将"},{"$f":"IF(②男子40歳以上の部!B17=\"\",\"\",②男子40歳以上の部!B17)","v":""},{"$f":"IF(②男子40歳以上の部!I17=\"\",\"\",②男子40歳以上の部!I17)","v":""},{"$f":"IF(②男子40歳以上の部!J17=\"\",\"\",②男子40歳以上の部!J17)","v":""},{"$f":"IF(②男子40歳以上の部!K17=\"\",\"\",②男子40歳以上の部!K17)","v":""},{"$f":"IF(②男子40歳以上の部!L17=\"\",\"\",②男子40歳以上の部!L17)","v":""},{"$f":"IF(②男子40歳以上の部!R17=\"\",\"\",②男子40歳以上の部!R17)","v":""},0]
[null,{"$f":"大学名等!$C$6&\"B\"","v":"B"},{"$f":"IF(②男子40歳以上の部!A22=\"\",\"\",②男子40歳以上の部!A22)","v":"先鋒"},{"$f":"IF(②男子40歳以上の部!B22=\"\",\"\",②男子40歳以上の部!B22)","v":""},{"$f":"IF(②男子40歳以上の部!I22=\"\",\"\",②男子40歳以上の部!I22)","v":""},{"$f":"IF(②男子40歳以上の部!J22=\"\",\"\",②男子40歳以上の部!J22)","v":""},{"$f":"IF(②男子40歳以上の部!K22=\"\",\"\",②男子40歳以上の部!K22)","v":""},{"$f":"IF(②男子40歳以上の部!L22=\"\",\"\",②男子40歳以上の部!L22)","v":""},{"$f":"IF(②男子40歳以上の部!R22=\"\",\"\",②男子40歳以上の部!R22)","v":""},0]
[null,null,{"$f":"IF(②男子40歳以上の部!A23=\"\",\"\",②男子40歳以上の部!A23)","v":"中堅"},{"$f":"IF(②男子40歳以上の部!B23=\"\",\"\",②男子40歳以上の部!B23)","v":""},{"$f":"IF(②男子40歳以上の部!I23=\"\",\"\",②男子40歳以上の部!I23)","v":""},{"$f":"IF(②男子40歳以上の部!J23=\"\",\"\",②男子40歳以上の部!J23)","v":""},{"$f":"IF(②男子40歳以上の部!K23=\"\",\"\",②男子40歳以上の部!K23)","v":""},{"$f":"IF(②男子40歳以上の部!L23=\"\",\"\",②男子40歳以上の部!L23)","v":""},{"$f":"IF(②男子40歳以上の部!R23=\"\",\"\",②男子40歳以上の部!R23)","v":""},0]
[null,null,{"$f":"IF(②男子40歳以上の部!A24=\"\",\"\",②男子40歳以上の部!A24)","v":"大将"},{"$f":"IF(②男子40歳以上の部!B24=\"\",\"\",②男子40歳以上の部!B24)","v":""},{"$f":"IF(②男子40歳以上の部!I24=\"\",\"\",②男子40歳以上の部!I24)","v":""},{"$f":"IF(②男子40歳以上の部!J24=\"\",\"\",②男子40歳以上の部!J24)","v":""},{"$f":"IF(②男子40歳以上の部!K24=\"\",\"\",②男子40歳以上の部!K24)","v":""},{"$f":"IF(②男子40歳以上の部!L24=\"\",\"\",②男子40歳以上の部!L24)","v":""},{"$f":"IF(②男子40歳以上の部!R24=\"\",\"\",②男子40歳以上の部!R24)","v":""},0]
[null,{"$f":"大学名等!$C$6&\"C\"","v":"C"},{"$f":"IF(②男子40歳以上の部!A29=\"\",\"\",②男子40歳以上の部!A29)","v":"先鋒"},{"$f":"IF(②男子40歳以上の部!B29=\"\",\"\",②男子40歳以上の部!B29)","v":""},{"$f":"IF(②男子40歳以上の部!I29=\"\",\"\",②男子40歳以上の部!I29)","v":""},{"$f":"IF(②男子40歳以上の部!J29=\"\",\"\",②男子40歳以上の部!J29)","v":""},{"$f":"IF(②男子40歳以上の部!K29=\"\",\"\",②男子40歳以上の部!K29)","v":""},{"$f":"IF(②男子40歳以上の部!L29=\"\",\"\",②男子40歳以上の部!L29)","v":""},{"$f":"IF(②男子40歳以上の部!R29=\"\",\"\",②男子40歳以上の部!R29)","v":""},0]
[null,null,{"$f":"IF(②男子40歳以上の部!A30=\"\",\"\",②男子40歳以上の部!A30)","v":"中堅"},{"$f":"IF(②男子40歳以上の部!B30=\"\",\"\",②男子40歳以上の部!B30)","v":""},{"$f":"IF(②男子40歳以上の部!I30=\"\",\"\",②男子40歳以上の部!I30)","v":""},{"$f":"IF(②男子40歳以上の部!J30=\"\",\"\",②男子40歳以上の部!J30)","v":""},{"$f":"IF(②男子40歳以上の部!K30=\"\",\"\",②男子40歳以上の部!K30)","v":""},{"$f":"IF(②男子40歳以上の部!L30=\"\",\"\",②男子40歳以上の部!L30)","v":""},{"$f":"IF(②男子40歳以上の部!R30=\"\",\"\",②男子40歳以上の部!R30)","v":""},0]
[null,null,{"$f":"IF(②男子40歳以上の部!A31=\"\",\"\",②男子40歳以上の部!A31)","v":"大将"},{"$f":"IF(②男子40歳以上の部!B31=\"\",\"\",②男子40歳以上の部!B31)","v":""},{"$f":"IF(②男子40歳以上の部!I31=\"\",\"\",②男子40歳以上の部!I31)","v":""},{"$f":"IF(②男子40歳以上の部!J31=\"\",\"\",②男子40歳以上の部!J31)","v":""},{"$f":"IF(②男子40歳以上の部!K31=\"\",\"\",②男子40歳以上の部!K31)","v":""},{"$f":"IF(②男子40歳以上の部!L31=\"\",\"\",②男子40歳以上の部!L31)","v":""},{"$f":"IF(②男子40歳以上の部!R31=\"\",\"\",②男子40歳以上の部!R31)","v":""},0]
[null,{"$f":"大学名等!$C$6&\"D\"","v":"D"},{"$f":"IF(②男子40歳以上の部!A36=\"\",\"\",②男子40歳以上の部!A36)","v":"先鋒"},{"$f":"IF(②男子40歳以上の部!B36=\"\",\"\",②男子40歳以上の部!B36)","v":""},{"$f":"IF(②男子40歳以上の部!I36=\"\",\"\",②男子40歳以上の部!I36)","v":""},{"$f":"IF(②男子40歳以上の部!J36=\"\",\"\",②男子40歳以上の部!J36)","v":""},{"$f":"IF(②男子40歳以上の部!K36=\"\",\"\",②男子40歳以上の部!K36)","v":""},{"$f":"IF(②男子40歳以上の部!L36=\"\",\"\",②男子40歳以上の部!L36)","v":""},{"$f":"IF(②男子40歳以上の部!R36=\"\",\"\",②男子40歳以上の部!R36)","v":""},0]
[null,null,{"$f":"IF(②男子40歳以上の部!A37=\"\",\"\",②男子40歳以上の部!A37)","v":"中堅"},{"$f":"IF(②男子40歳以上の部!B37=\"\",\"\",②男子40歳以上の部!B37)","v":""},{"$f":"IF(②男子40歳以上の部!I37=\"\",\"\",②男子40歳以上の部!I37)","v":""},{"$f":"IF(②男子40歳以上の部!J37=\"\",\"\",②男子40歳以上の部!J37)","v":""},{"$f":"IF(②男子40歳以上の部!K37=\"\",\"\",②男子40歳以上の部!K37)","v":""},{"$f":"IF(②男子40歳以上の部!L37=\"\",\"\",②男子40歳以上の部!L37)","v":""},{"$f":"IF(②男子40歳以上の部!R37=\"\",\"\",②男子40歳以上の部!R37)","v":""},0]
[null,null,{"$f":"IF(②男子40歳以上の部!A38=\"\",\"\",②男子40歳以上の部!A38)","v":"大将"},{"$f":"IF(②男子40歳以上の部!B38=\"\",\"\",②男子40歳以上の部!B38)","v":""},{"$f":"IF(②男子40歳以上の部!I38=\"\",\"\",②男子40歳以上の部!I38)","v":""},{"$f":"IF(②男子40歳以上の部!J38=\"\",\"\",②男子40歳以上の部!J38)","v":""},{"$f":"IF(②男子40歳以上の部!K38=\"\",\"\",②男子40歳以上の部!K38)","v":""},{"$f":"IF(②男子40歳以上の部!L38=\"\",\"\",②男子40歳以上の部!L38)","v":""},{"$f":"IF(②男子40歳以上の部!R38=\"\",\"\",②男子40歳以上の部!R38)","v":""},0]
[null,null,"補欠",{"$f":"IF(②男子40歳以上の部!B43=\"\",\"\",②男子40歳以上の部!B43)","v":""},{"$f":"IF(②男子40歳以上の部!I43=\"\",\"\",②男子40歳以上の部!I43)","v":""},{"$f":"IF(②男子40歳以上の部!J43=\"\",\"\",②男子40歳以上の部!J43)","v":""},{"$f":"IF(②男子40歳以上の部!K43=\"\",\"\",②男子40歳以上の部!K43)","v":""},{"$f":"IF(②男子40歳以上の部!L43=\"\",\"\",②男子40歳以上の部!L43)","v":""},{"$f":"IF(②男子40歳以上の部!R43=\"\",\"\",②男子40歳以上の部!R43)","v":""},0]
[]
[null,"　男子3人制団体戦（55歳以上の部）　"]
[null,{"$f":"大学名等!$C$6&\"A\"","v":"A"},{"$f":"IF(③男子55歳以上の部!A15=\"\",\"\",③男子55歳以上の部!A15)","v":"先鋒"},{"$f":"IF(③男子55歳以上の部!B15=\"\",\"\",③男子55歳以上の部!B15)","v":""},{"$f":"IF(③男子55歳以上の部!I15=\"\",\"\",③男子55歳以上の部!I15)","v":""},{"$f":"IF(③男子55歳以上の部!J15=\"\",\"\",③男子55歳以上の部!J15)","v":""},{"$f":"IF(③男子55歳以上の部!K15=\"\",\"\",③男子55歳以上の部!K15)","v":""},{"$f":"IF(③男子55歳以上の部!L15=\"\",\"\",③男子55歳以上の部!L15)","v":""},{"$f":"IF(③男子55歳以上の部!R15=\"\",\"\",③男子55歳以上の部!R15)","v":""},{"$f":"IF(D32=\"\",0,1)","v":0}]
[null,null,{"$f":"IF(③男子55歳以上の部!A16=\"\",\"\",③男子55歳以上の部!A16)","v":"中堅"},{"$f":"IF(③男子55歳以上の部!B16=\"\",\"\",③男子55歳以上の部!B16)","v":""},{"$f":"IF(③男子55歳以上の部!I16=\"\",\"\",③男子55歳以上の部!I16)","v":""},{"$f":"IF(③男子55歳以上の部!J16=\"\",\"\",③男子55歳以上の部!J16)","v":""},{"$f":"IF(③男子55歳以上の部!K16=\"\",\"\",③男子55歳以上の部!K16)","v":""},{"$f":"IF(③男子55歳以上の部!L16=\"\",\"\",③男子55歳以上の部!L16)","v":""},{"$f":"IF(③男子55歳以上の部!R16=\"\",\"\",③男子55歳以上の部!R16)","v":""},{"$f":"IF(D33=\"\",0,1)","v":0}]
[null,null,{"$f":"IF(③男子55歳以上の部!A17=\"\",\"\",③男子55歳以上の部!A17)","v":"大将"},{"$f":"IF(③男子55歳以上の部!B17=\"\",\"\",③男子55歳以上の部!B17)","v":""},{"$f":"IF(③男子55歳以上の部!I17=\"\",\"\",③男子55歳以上の部!I17)","v":""},{"$f":"IF(③男子55歳以上の部!J17=\"\",\"\",③男子55歳以上の部!J17)","v":""},{"$f":"IF(③男子55歳以上の部!K17=\"\",\"\",③男子55歳以上の部!K17)","v":""},{"$f":"IF(③男子55歳以上の部!L17=\"\",\"\",③男子55歳以上の部!L17)","v":""},{"$f":"IF(③男子55歳以上の部!R17=\"\",\"\",③男子55歳以上の部!R17)","v":""},0]
[null,{"$f":"大学名等!$C$6&\"B\"","v":"B"},{"$f":"IF(③男子55歳以上の部!A22=\"\",\"\",③男子55歳以上の部!A22)","v":"先鋒"},{"$f":"IF(③男子55歳以上の部!B22=\"\",\"\",③男子55歳以上の部!B22)","v":""},{"$f":"IF(③男子55歳以上の部!I22=\"\",\"\",③男子55歳以上の部!I22)","v":""},{"$f":"IF(③男子55歳以上の部!J22=\"\",\"\",③男子55歳以上の部!J22)","v":""},{"$f":"IF(③男子55歳以上の部!K22=\"\",\"\",③男子55歳以上の部!K22)","v":""},{"$f":"IF(③男子55歳以上の部!L22=\"\",\"\",③男子55歳以上の部!L22)","v":""},{"$f":"IF(③男子55歳以上の部!R22=\"\",\"\",③男子55歳以上の部!R22)","v":""},0]
[null,null,{"$f":"IF(③男子55歳以上の部!A23=\"\",\"\",③男子55歳以上の部!A23)","v":"中堅"},{"$f":"IF(③男子55歳以上の部!B23=\"\",\"\",③男子55歳以上の部!B23)","v":""},{"$f":"IF(③男子55歳以上の部!I23=\"\",\"\",③男子55歳以上の部!I23)","v":""},{"$f":"IF(③男子55歳以上の部!J23=\"\",\"\",③男子55歳以上の部!J23)","v":""},{"$f":"IF(③男子55歳以上の部!K23=\"\",\"\",③男子55歳以上の部!K23)","v":""},{"$f":"IF(③男子55歳以上の部!L23=\"\",\"\",③男子55歳以上の部!L23)","v":""},{"$f":"IF(③男子55歳以上の部!R23=\"\",\"\",③男子55歳以上の部!R23)","v":""},0]
[null,null,{"$f":"IF(③男子55歳以上の部!A24=\"\",\"\",③男子55歳以上の部!A24)","v":"大将"},{"$f":"IF(③男子55歳以上の部!B24=\"\",\"\",③男子55歳以上の部!B24)","v":""},{"$f":"IF(③男子55歳以上の部!I24=\"\",\"\",③男子55歳以上の部!I24)","v":""},{"$f":"IF(③男子55歳以上の部!J24=\"\",\"\",③男子55歳以上の部!J24)","v":""},{"$f":"IF(③男子55歳以上の部!K24=\"\",\"\",③男子55歳以上の部!K24)","v":""},{"$f":"IF(③男子55歳以上の部!L24=\"\",\"\",③男子55歳以上の部!L24)","v":""},{"$f":"IF(③男子55歳以上の部!R24=\"\",\"\",③男子55歳以上の部!R24)","v":""},0]
[null,{"$f":"大学名等!$C$6&\"C\"","v":"C"},{"$f":"IF(③男子55歳以上の部!A29=\"\",\"\",③男子55歳以上の部!A29)","v":"先鋒"},{"$f":"IF(③男子55歳以上の部!B29=\"\",\"\",③男子55歳以上の部!B29)","v":""},{"$f":"IF(③男子55歳以上の部!I29=\"\",\"\",③男子55歳以上の部!I29)","v":""},{"$f":"IF(③男子55歳以上の部!J29=\"\",\"\",③男子55歳以上の部!J29)","v":""},{"$f":"IF(③男子55歳以上の部!K29=\"\",\"\",③男子55歳以上の部!K29)","v":""},{"$f":"IF(③男子55歳以上の部!L29=\"\",\"\",③男子55歳以上の部!L29)","v":""},{"$f":"IF(③男子55歳以上の部!R29=\"\",\"\",③男子55歳以上の部!R29)","v":""},0]
[null,null,{"$f":"IF(③男子55歳以上の部!A30=\"\",\"\",③男子55歳以上の部!A30)","v":"中堅"},{"$f":"IF(③男子55歳以上の部!B30=\"\",\"\",③男子55歳以上の部!B30)","v":""},{"$f":"IF(③男子55歳以上の部!I30=\"\",\"\",③男子55歳以上の部!I30)","v":""},{"$f":"IF(③男子55歳以上の部!J30=\"\",\"\",③男子55歳以上の部!J30)","v":""},{"$f":"IF(③男子55歳以上の部!K30=\"\",\"\",③男子55歳以上の部!K30)","v":""},{"$f":"IF(③男子55歳以上の部!L30=\"\",\"\",③男子55歳以上の部!L30)","v":""},{"$f":"IF(③男子55歳以上の部!R30=\"\",\"\",③男子55歳以上の部!R30)","v":""},0]
[null,null,{"$f":"IF(③男子55歳以上の部!A31=\"\",\"\",③男子55歳以上の部!A31)","v":"大将"},{"$f":"IF(③男子55歳以上の部!B31=\"\",\"\",③男子55歳以上の部!B31)","v":""},{"$f":"IF(③男子55歳以上の部!I31=\"\",\"\",③男子55歳以上の部!I31)","v":""},{"$f":"IF(③男子55歳以上の部!J31=\"\",\"\",③男子55歳以上の部!J31)","v":""},{"$f":"IF(③男子55歳以上の部!K31=\"\",\"\",③男子55歳以上の部!K31)","v":""},{"$f":"IF(③男子55歳以上の部!L31=\"\",\"\",③男子55歳以上の部!L31)","v":""},{"$f":"IF(③男子55歳以上の部!R31=\"\",\"\",③男子55歳以上の部!R31)","v":""},0]
[null,{"$f":"大学名等!$C$6&\"D\"","v":"D"},{"$f":"IF(③男子55歳以上の部!A36=\"\",\"\",③男子55歳以上の部!A36)","v":"先鋒"},{"$f":"IF(③男子55歳以上の部!B36=\"\",\"\",③男子55歳以上の部!B36)","v":""},{"$f":"IF(③男子55歳以上の部!I36=\"\",\"\",③男子55歳以上の部!I36)","v":""},{"$f":"IF(③男子55歳以上の部!J36=\"\",\"\",③男子55歳以上の部!J36)","v":""},{"$f":"IF(③男子55歳以上の部!K36=\"\",\"\",③男子55歳以上の部!K36)","v":""},{"$f":"IF(③男子55歳以上の部!L36=\"\",\"\",③男子55歳以上の部!L36)","v":""},{"$f":"IF(③男子55歳以上の部!R36=\"\",\"\",③男子55歳以上の部!R36)","v":""},0]
[null,null,{"$f":"IF(③男子55歳以上の部!A37=\"\",\"\",③男子55歳以上の部!A37)","v":"中堅"},{"$f":"IF(③男子55歳以上の部!B37=\"\",\"\",③男子55歳以上の部!B37)","v":""},{"$f":"IF(③男子55歳以上の部!I37=\"\",\"\",③男子55歳以上の部!I37)","v":""},{"$f":"IF(③男子55歳以上の部!J37=\"\",\"\",③男子55歳以上の部!J37)","v":""},{"$f":"IF(③男子55歳以上の部!K37=\"\",\"\",③男子55歳以上の部!K37)","v":""},{"$f":"IF(③男子55歳以上の部!L37=\"\",\"\",③男子55歳以上の部!L37)","v":""},{"$f":"IF(③男子55歳以上の部!R37=\"\",\"\",③男子55歳以上の部!R37)","v":""},0]
[null,null,{"$f":"IF(③男子55歳以上の部!A38=\"\",\"\",③男子55歳以上の部!A38)","v":"大将"},{"$f":"IF(③男子55歳以上の部!B38=\"\",\"\",③男子55歳以上の部!B38)","v":""},{"$f":"IF(③男子55歳以上の部!I38=\"\",\"\",③男子55歳以上の部!I38)","v":""},{"$f":"IF(③男子55歳以上の部!J38=\"\",\"\",③男子55歳以上の部!J38)","v":""},{"$f":"IF(③男子55歳以上の部!K38=\"\",\"\",③男子55歳以上の部!K38)","v":""},{"$f":"IF(③男子55歳以上の部!L38=\"\",\"\",③男子55歳以上の部!L38)","v":""},{"$f":"IF(③男子55歳以上の部!R38=\"\",\"\",③男子55歳以上の部!R38)","v":""},0]
[null,null,"補欠",{"$f":"IF(③男子55歳以上の部!B43=\"\",\"\",③男子55歳以上の部!B43)","v":""},{"$f":"IF(③男子55歳以上の部!I43=\"\",\"\",③男子55歳以上の部!I43)","v":""},{"$f":"IF(③男子55歳以上の部!J43=\"\",\"\",③男子55歳以上の部!J43)","v":""},{"$f":"IF(③男子55歳以上の部!K43=\"\",\"\",③男子55歳以上の部!K43)","v":""},{"$f":"IF(③男子55歳以上の部!L43=\"\",\"\",③男子55歳以上の部!L43)","v":""},{"$f":"IF(③男子55歳以上の部!R43=\"\",\"\",③男子55歳以上の部!R43)","v":""},0]
[]
[null,"　女子3人制団体戦　"]
[null,{"$f":"大学名等!$C$6&\"A\"","v":"A"},{"$f":"IF(④女子の部!A15=\"\",\"\",④女子の部!A15)","v":"先鋒"},{"$f":"IF(④女子の部!B15=\"\",\"\",④女子の部!B15)","v":""},{"$f":"IF(④女子の部!I15=\"\",\"\",④女子の部!I15)","v":""},{"$f":"IF(④女子の部!J15=\"\",\"\",④女子の部!J15)","v":""},{"$f":"IF(④女子の部!K15=\"\",\"\",④女子の部!K15)","v":""},{"$f":"IF(④女子の部!L15=\"\",\"\",④女子の部!L15)","v":""},{"$f":"IF(④女子の部!R15=\"\",\"\",④女子の部!R15)","v":""},{"$f":"IF(D47=\"\",0,1)","v":0}]
[null,null,{"$f":"IF(④女子の部!A16=\"\",\"\",④女子の部!A16)","v":"中堅"},{"$f":"IF(④女子の部!B16=\"\",\"\",④女子の部!B16)","v":""},{"$f":"IF(④女子の部!I16=\"\",\"\",④女子の部!I16)","v":""},{"$f":"IF(④女子の部!J16=\"\",\"\",④女子の部!J16)","v":""},{"$f":"IF(④女子の部!K16=\"\",\"\",④女子の部!K16)","v":""},{"$f":"IF(④女子の部!L16=\"\",\"\",④女子の部!L16)","v":""},{"$f":"IF(④女子の部!R16=\"\",\"\",④女子の部!R16)","v":""},{"$f":"IF(D48=\"\",0,1)","v":0}]
[null,null,{"$f":"IF(④女子の部!A17=\"\",\"\",④女子の部!A17)","v":"大将"},{"$f":"IF(④女子の部!B17=\"\",\"\",④女子の部!B17)","v":""},{"$f":"IF(④女子の部!I17=\"\",\"\",④女子の部!I17)","v":""},{"$f":"IF(④女子の部!J17=\"\",\"\",④女子の部!J17)","v":""},{"$f":"IF(④女子の部!K17=\"\",\"\",④女子の部!K17)","v":""},{"$f":"IF(④女子の部!L17=\"\",\"\",④女子の部!L17)","v":""},{"$f":"IF(④女子の部!R17=\"\",\"\",④女子の部!R17)","v":""},0]
[null,{"$f":"大学名等!$C$6&\"B\"","v":"B"},{"$f":"IF(④女子の部!A22=\"\",\"\",④女子の部!A22)","v":"先鋒"},{"$f":"IF(④女子の部!B22=\"\",\"\",④女子の部!B22)","v":""},{"$f":"IF(④女子の部!I22=\"\",\"\",④女子の部!I22)","v":""},{"$f":"IF(④女子の部!J22=\"\",\"\",④女子の部!J22)","v":""},{"$f":"IF(④女子の部!K22=\"\",\"\",④女子の部!K22)","v":""},{"$f":"IF(④女子の部!L22=\"\",\"\",④女子の部!L22)","v":""},{"$f":"IF(④女子の部!R22=\"\",\"\",④女子の部!R22)","v":""},0]
[null,null,{"$f":"IF(④女子の部!A23=\"\",\"\",④女子の部!A23)","v":"中堅"},{"$f":"IF(④女子の部!B23=\"\",\"\",④女子の部!B23)","v":""},{"$f":"IF(④女子の部!I23=\"\",\"\",④女子の部!I23)","v":""},{"$f":"IF(④女子の部!J23=\"\",\"\",④女子の部!J23)","v":""},{"$f":"IF(④女子の部!K23=\"\",\"\",④女子の部!K23)","v":""},{"$f":"IF(④女子の部!L23=\"\",\"\",④女子の部!L23)","v":""},{"$f":"IF(④女子の部!R23=\"\",\"\",④女子の部!R23)","v":""},0]
[null,null,{"$f":"IF(④女子の部!A24=\"\",\"\",④女子の部!A24)","v":"大将"},{"$f":"IF(④女子の部!B24=\"\",\"\",④女子の部!B24)","v":""},{"$f":"IF(④女子の部!I24=\"\",\"\",④女子の部!I24)","v":""},{"$f":"IF(④女子の部!J24=\"\",\"\",④女子の部!J24)","v":""},{"$f":"IF(④女子の部!K24=\"\",\"\",④女子の部!K24)","v":""},{"$f":"IF(④女子の部!L24=\"\",\"\",④女子の部!L24)","v":""},{"$f":"IF(④女子の部!R24=\"\",\"\",④女子の部!R24)","v":""},0]
[null,{"$f":"大学名等!$C$6&\"C\"","v":"C"},{"$f":"IF(④女子の部!A29=\"\",\"\",④女子の部!A29)","v":"先鋒"},{"$f":"IF(④女子の部!B29=\"\",\"\",④女子の部!B29)","v":""},{"$f":"IF(④女子の部!I29=\"\",\"\",④女子の部!I29)","v":""},{"$f":"IF(④女子の部!J29=\"\",\"\",④女子の部!J29)","v":""},{"$f":"IF(④女子の部!K29=\"\",\"\",④女子の部!K29)","v":""},{"$f":"IF(④女子の部!L29=\"\",\"\",④女子の部!L29)","v":""},{"$f":"IF(④女子の部!R29=\"\",\"\",④女子の部!R29)","v":""},0]
[null,null,{"$f":"IF(④女子の部!A30=\"\",\"\",④女子の部!A30)","v":"中堅"},{"$f":"IF(④女子の部!B30=\"\",\"\",④女子の部!B30)","v":""},{"$f":"IF(④女子の部!I30=\"\",\"\",④女子の部!I30)","v":""},{"$f":"IF(④女子の部!J30=\"\",\"\",④女子の部!J30)","v":""},{"$f":"IF(④女子の部!K30=\"\",\"\",④女子の部!K30)","v":""},{"$f":"IF(④女子の部!L30=\"\",\"\",④女子の部!L30)","v":""},{"$f":"IF(④女子の部!R30=\"\",\"\",④女子の部!R30)","v":""},0]
[null,null,{"$f":"IF(④女子の部!A31=\"\",\"\",④女子の部!A31)","v":"大将"},{"$f":"IF(④女子の部!B31=\"\",\"\",④女子の部!B31)","v":""},{"$f":"IF(④女子の部!I31=\"\",\"\",④女子の部!I31)","v":""},{"$f":"IF(④女子の部!J31=\"\",\"\",④女子の部!J31)","v":""},{"$f":"IF(④女子の部!K31=\"\",\"\",④女子の部!K31)","v":""},{"$f":"IF(④女子の部!L31=\"\",\"\",④女子の部!L31)","v":""},{"$f":"IF(④女子の部!R31=\"\",\"\",④女子の部!R31)","v":""},0]
[null,{"$f":"大学名等!$C$6&\"D\"","v":"D"},{"$f":"IF(④女子の部!A36=\"\",\"\",④女子の部!A36)","v":"先鋒"},{"$f":"IF(④女子の部!B36=\"\",\"\",④女子の部!B36)","v":""},{"$f":"IF(④女子の部!I36=\"\",\"\",④女子の部!I36)","v":""},{"$f":"IF(④女子の部!J36=\"\",\"\",④女子の部!J36)","v":""},{"$f":"IF(④女子の部!K36=\"\",\"\",④女子の部!K36)","v":""},{"$f":"IF(④女子の部!L36=\"\",\"\",④女子の部!L36)","v":""},{"$f":"IF(④女子の部!R36=\"\",\"\",④女子の部!R36)","v":""},0]
[null,null,{"$f":"IF(④女子の部!A37=\"\",\"\",④女子の部!A37)","v":"中堅"},{"$f":"IF(④女子の部!B37=\"\",\"\",④女子の部!B37)","v":""},{"$f":"IF(④女子の部!I37=\"\",\"\",④女子の部!I37)","v":""},{"$f":"IF(④女子の部!J37=\"\",\"\",④女子の部!J37)","v":""},{"$f":"IF(④女子の部!K37=\"\",\"\",④女子の部!K37)","v":""},{"$f":"IF(④女子の部!L37=\"\",\"\",④女子の部!L37)","v":""},{"$f":"IF(④女子の部!R37=\"\",\"\",④女子の部!R37)","v":""},0]
[null,null,{"$f":"IF(④女子の部!A38=\"\",\"\",④女子の部!A38)","v":"大将"},{"$f":"IF(④女子の部!B38=\"\",\"\",④女子の部!B38)","v":""},{"$f":"IF(④女子の部!I38=\"\",\"\",④女子の部!I38)","v":""},{"$f":"IF(④女子の部!J38=\"\",\"\",④女子の部!J38)","v":""},{"$f":"IF(④女子の部!K38=\"\",\"\",④女子の部!K38)","v":""},{"$f":"IF(④女子の部!L38=\"\",\"\",④女子の部!L38)","v":""},{"$f":"IF(④女子の部!R38=\"\",\"\",④女子の部!R38)","v":""},0]
[null,null,"補欠",{"$f":"IF(④女子の部!B43=\"\",\"\",④女子の部!B43)","v":""},{"$f":"IF(④女子の部!I43=\"\",\"\",④女子の部!I43)","v":""},{"$f":"IF(④女子の部!J43=\"\",\"\",④女子の部!J43)","v":""},{"$f":"IF(④女子の部!K43=\"\",\"\",④女子の部!K43)","v":""},{"$f":"IF(④女子の部!L43=\"\",\"\",④女子の部!L43)","v":""},{"$f":"IF(④女子の部!R43=\"\",\"\",④女子の部!R43)","v":""},0]
[]
[null,null,null,null,null,null,null,null,null,{"$f":"SUM(J2:J59)","v":0}]

{"sheet":"懇親会","index":7,"n_rows":128,"n_cols":29,"rows_kept":128,"cut":false,"hidden":false,"merged":[[1,0,2,7],[4,1,4,2],[6,2,6,3],[7,2,7,3],[8,2,8,3],[6,5,6,6],[7,5,7,6],[8,5,8,6],[20,2,20,3],[9,2,9,3],[10,2,10,3],[11,2,11,3],[12,2,12,3],[13,2,13,3],[14,2,14,3],[15,2,15,3],[16,2,16,3],[17,2,17,3],[18,2,18,3],[19,2,19,3],[32,2,32,3],[21,2,21,3],[22,2,22,3],[23,2,23,3],[24,2,24,3],[25,2,25,3],[26,2,26,3],[27,2,27,3],[28,2,28,3],[29,2,29,3],[30,2,30,3],[31,2,31,3],[20,5,20,6],[9,5,9,6],[10,5,10,6],[11,5,11,6],[12,5,12,6],[13,5,13,6],[14,5,14,6],[15,5,15,6],[16,5,16,6],[17,5,17,6],[18,5,18,6],[19,5,19,6],[32,5,32,6],[21,5,21,6],[22,5,22,6],[23,5,23,6],[24,5,24,6],[25,5,25,6],[26,5,26,6],[27,5,27,6],[28,5,28,6],[29,5,29,6],[30,5,30,6],[31,5,31,6]]}
[]
["懇親会参加者リスト"]
[]
[]
[null,{"$f":"大学名等!C6","v":0}]
[]
[null,1,{"$f":"IFERROR(VLOOKUP(B7,$J$7:K200,2,0),\"\")","v":0},null,28,{"$f":"IFERROR(VLOOKUP(E7,$J$7:K200,2,0),\"\")","v":""},null,null,{"$f":"①男子40歳未満の部!U15","v":0},1,{"$f":"①男子40歳未満の部!B15","v":0},null,null,null,null,null,null,null,null,null,null,null,null,null,null,null,null,{"$f":"①男子40歳未満の部!T15","v":0},{"$f":"①男子40歳未満の部!U15","v":0}]
[null,{"$f":"B7+1","v":2},{"$f":"IFERROR(VLOOKUP(B8,$J$7:K201,2,0),\"\")","v":0},null,{"$f":"E7+1","v":29},{"$f":"IFERROR(VLOOKUP(E8,$J$7:K201,2,0),\"\")","v":""},null,null,{"$f":"①男子40歳未満の部!U16","v":0},2,{"$f":"①男子40歳未満の部!B16","v":0}]
[null,{"$f":"B8+1","v":3},{"$f":"IFERROR(VLOOKUP(B9,$J$7:K202,2,0),\"\")","v":0},null,{"$f":"E8+1","v":30},{"$f":"IFERROR(VLOOKUP(E9,$J$7:K202,2,0),\"\")","v":""},null,null,{"$f":"①男子40歳未満の部!U17","v":0},3,{"$f":"①男子40歳未満の部!B17","v":0}]
[null,4,{"$f":"IFERROR(VLOOKUP(B10,$J$7:K203,2,0),\"\")","v":0},null,31,{"$f":"IFERROR(VLOOKUP(E10,$J$7:K203,2,0),\"\")","v":""},null,null,{"$f":"①男子40歳未満の部!U18","v":0},0,{"$f":"①男子40歳未満の部!B18","v":0}]
[null,5,{"$f":"IFERROR(VLOOKUP(B11,$J$7:K204,2,0),\"\")","v":0},null,32,{"$f":"IFERROR(VLOOKUP(E11,$J$7:K204,2,0),\"\")","v":""},null,null,{"$f":"①男子40歳未満の部!U19","v":0},0,{"$f":"①男子40歳未満の部!B19","v":0}]
[null,6,{"$f":"IFERROR(VLOOKUP(B12,$J$7:K205,2,0),\"\")","v":0},null,33,{"$f":"IFERROR(VLOOKUP(E12,$J$7:K205,2,0),\"\")","v":""},null,null,{"$f":"①男子40歳未満の部!U20","v":0},0,{"$f":"①男子40歳未満の部!B20","v":"氏　　　名"}]
[null,7,{"$f":"IFERROR(VLOOKUP(B13,$J$7:K206,2,0),\"\")","v":0},null,34,{"$f":"IFERROR(VLOOKUP(E13,$J$7:K206,2,0),\"\")","v":""},null,null,{"$f":"①男子40歳未満の部!U21","v":0},0,{"$f":"①男子40歳未満の部!B21","v":0}]
[null,8,{"$f":"IFERROR(VLOOKUP(B14,$J$7:K207,2,0),\"\")","v":0},null,35,{"$f":"IFERROR(VLOOKUP(E14,$J$7:K207,2,0),\"\")","v":""},null,null,{"$f":"①男子40歳未満の部!U22","v":0},4,{"$f":"①男子40歳未満の部!B22","v":0}]
[null,9,{"$f":"IFERROR(VLOOKUP(B15,$J$7:K208,2,0),\"\")","v":0},null,36,{"$f":"IFERROR(VLOOKUP(E15,$J$7:K208,2,0),\"\")","v":""},null,null,{"$f":"①男子40歳未満の部!U23","v":0},0,{"$f":"①男子40歳未満の部!B23","v":0}]
[null,10,{"$f":"IFERROR(VLOOKUP(B16,$J$7:K209,2,0),\"\")","v":0},null,37,{"$f":"IFERROR(VLOOKUP(E16,$J$7:K209,2,0),\"\")","v":""},null,null,{"$f":"①男子40歳未満の部!U24","v":0},0,{"$f":"①男子40歳未満の部!B24","v":0}]
[null,11,{"$f":"IFERROR(VLOOKUP(B17,$J$7:K210,2,0),\"\")","v":""},null,38,{"$f":"IFERROR(VLOOKUP(E17,$J$7:K210,2,0),\"\")","v":""},null,null,{"$f":"①男子40歳未満の部!U25","v":0},0,{"$f":"①男子40歳未満の部!B25","v":0}]
[null,12,{"$f":"IFERROR(VLOOKUP(B18,$J$7:K211,2,0),\"\")","v":""},null,39,{"$f":"IFERROR(VLOOKUP(E18,$J$7:K211,2,0),\"\")","v":""},null,null,{"$f":"①男子40歳未満の部!U26","v":0},0,{"$f":"①男子40歳未満の部!B26","v":0}]
[null,13,{"$f":"IFERROR(VLOOKUP(B19,$J$7:K212,2,0),\"\")","v":""},null,40,{"$f":"IFERROR(VLOOKUP(E19,$J$7:K212,2,0),\"\")","v":""},null,null,{"$f":"①男子40歳未満の部!U27","v":0},0,{"$f":"①男子40歳未満の部!B27","v":"氏　　　名"}]
[null,14,{"$f":"IFERROR(VLOOKUP(B20,$J$7:K213,2,0),\"\")","v":""},null,41,{"$f":"IFERROR(VLOOKUP(E20,$J$7:K213,2,0),\"\")","v":""},null,null,{"$f":"①男子40歳未満の部!U28","v":0},0,{"$f":"①男子40歳未満の部!B28","v":0}]
[null,15,{"$f":"IFERROR(VLOOKUP(B21,$J$7:K214,2,0),\"\")","v":""},null,42,{"$f":"IFERROR(VLOOKUP(E21,$J$7:K214,2,0),\"\")","v":""},null,null,{"$f":"①男子40歳未満の部!U29","v":0},0,{"$f":"①男子40歳未満の部!B29","v":0}]
[null,16,{"$f":"IFERROR(VLOOKUP(B22,$J$7:K215,2,0),\"\")","v":""},null,43,{"$f":"IFERROR(VLOOKUP(E22,$J$7:K215,2,0),\"\")","v":""},null,null,{"$f":"①男子40歳未満の部!U30","v":0},0,{"$f":"①男子40歳未満の部!B30","v":0}]
[null,17,{"$f":"IFERROR(VLOOKUP(B23,$J$7:K216,2,0),\"\")","v":""},null,44,{"$f":"IFERROR(VLOOKUP(E23,$J$7:K216,2,0),\"\")","v":""},null,null,{"$f":"①男子40歳未満の部!U31","v":0},0,{"$f":"①男子40歳未満の部!B31","v":0}]
[null,18,{"$f":"IFERROR(VLOOKUP(B24,$J$7:K217,2,0),\"\")","v":""},null,45,{"$f":"IFERROR(VLOOKUP(E24,$J$7:K217,2,0),\"\")","v":""},null,null,{"$f":"①男子40歳未満の部!U32","v":0},0,{"$f":"①男子40歳未満の部!B32","v":0}]
[null,19,{"$f":"IFERROR(VLOOKUP(B25,$J$7:K218,2,0),\"\")","v":""},null,46,{"$f":"IFERROR(VLOOKUP(E25,$J$7:K218,2,0),\"\")","v":""},null,null,{"$f":"①男子40歳未満の部!U33","v":0},0,{"$f":"①男子40歳未満の部!B33","v":0}]
[null,20,{"$f":"IFERROR(VLOOKUP(B26,$J$7:K219,2,0),\"\")","v":""},null,47,{"$f":"IFERROR(VLOOKUP(E26,$J$7:K219,2,0),\"\")","v":""},null,null,{"$f":"①男子40歳未満の部!U34","v":0},0,{"$f":"①男子40歳未満の部!B34","v":"氏　　　名"}]
[null,21,{"$f":"IFERROR(VLOOKUP(B27,$J$7:K220,2,0),\"\")","v":""},null,48,{"$f":"IFERROR(VLOOKUP(E27,$J$7:K220,2,0),\"\")","v":""},null,null,{"$f":"①男子40歳未満の部!U35","v":0},0,{"$f":"①男子40歳未満の部!B35","v":0}]
[null,22,{"$f":"IFERROR(VLOOKUP(B28,$J$7:K221,2,0),\"\")","v":""},null,49,{"$f":"IFERROR(VLOOKUP(E28,$J$7:K221,2,0),\"\")","v":""},null,null,{"$f":"①男子40歳未満の部!U36","v":0},0,{"$f":"①男子40歳未満の部!B36","v":0}]
[null,23,{"$f":"IFERROR(VLOOKUP(B29,$J$7:K222,2,0),\"\")","v":""},null,50,{"$f":"IFERROR(VLOOKUP(E29,$J$7:K222,2,0),\"\")","v":""},null,null,{"$f":"①男子40歳未満の部!U37","v":0},0,{"$f":"①男子40歳未満の部!B37","v":0}]
[null,24,{"$f":"IFERROR(VLOOKUP(B30,$J$7:K223,2,0),\"\")","v":""},null,51,{"$f":"IFERROR(VLOOKUP(E30,$J$7:K223,2,0),\"\")","v":""},null,null,{"$f":"①男子40歳未満の部!U38","v":0},0,{"$f":"①男子40歳未満の部!B38","v":0}]
[null,25,{"$f":"IFERROR(VLOOKUP(B31,$J$7:K224,2,0),\"\")","v":""},null,52,{"$f":"IFERROR(VLOOKUP(E31,$J$7:K224,2,0),\"\")","v":""},null,null,{"$f":"①男子40歳未満の部!U39","v":0},0,{"$f":"①男子40歳未満の部!B39","v":0}]
[null,26,{"$f":"IFERROR(VLOOKUP(B32,$J$7:K225,2,0),\"\")","v":""},null,53,{"$f":"IFERROR(VLOOKUP(E32,$J$7:K225,2,0),\"\")","v":""},null,null,{"$f":"①男子40歳未満の部!U40","v":0},0,{"$f":"①男子40歳未満の部!B40","v":0}]
[null,27,{"$f":"IFERROR(VLOOKUP(B33,$J$7:K226,2,0),\"\")","v":""},null,54,{"$f":"IFERROR(VLOOKUP(E33,$J$7:K226,2,0),\"\")","v":""},null,null,{"$f":"①男子40歳未満の部!U41","v":0},0,{"$f":"①男子40歳未満の部!B41","v":"氏　　　名"}]
[null,null,null,null,null,null,null,null,{"$f":"①男子40歳未満の部!U42","v":0},0,{"$f":"①男子40歳未満の部!B42","v":0}]
[null,null,null,null,null,null,null,null,{"$f":"①男子40歳未満の部!U43","v":0},0,{"$f":"①男子40歳未満の部!B43","v":0}]
[null,null,null,null,null,null,null,null,{"$f":"②男子40歳以上の部!U15","v":0},5,{"$f":"②男子40歳以上の部!B15","v":0}]
[null,null,null,null,null,null,null,null,{"$f":"②男子40歳以上の部!U16","v":0},6,{"$f":"②男子40歳以上の部!B16","v":0}]
[null,null,null,null,null,null,null,null,{"$f":"②男子40歳以上の部!U17","v":0},0,{"$f":"②男子40歳以上の部!B17","v":0}]
[null,null,null,null,null,null,null,null,{"$f":"②男子40歳以上の部!U18","v":0},0,{"$f":"②男子40歳以上の部!B18","v":0}]
[null,null,null,null,null,null,null,null,{"$f":"②男子40歳以上の部!U19","v":0},0,{"$f":"②男子40歳以上の部!B19","v":0}]
[null,null,null,null,null,null,null,null,{"$f":"②男子40歳以上の部!U20","v":0},0,{"$f":"②男子40歳以上の部!B20","v":"氏　　　名"}]
[null,null,null,null,null,null,null,null,{"$f":"②男子40歳以上の部!U21","v":0},0,{"$f":"②男子40歳以上の部!B21","v":0}]
[null,null,null,null,null,null,null,null,{"$f":"②男子40歳以上の部!U22","v":0},7,{"$f":"②男子40歳以上の部!B22","v":0}]
[null,null,null,null,null,null,null,null,{"$f":"②男子40歳以上の部!U23","v":0},0,{"$f":"②男子40歳以上の部!B23","v":0}]
[null,null,null,null,null,null,null,null,{"$f":"②男子40歳以上の部!U24","v":0},0,{"$f":"②男子40歳以上の部!B24","v":0}]
[null,null,null,null,null,null,null,null,{"$f":"②男子40歳以上の部!U25","v":0},0,{"$f":"②男子40歳以上の部!B25","v":0}]
[null,null,null,null,null,null,null,null,{"$f":"②男子40歳以上の部!U26","v":0},0,{"$f":"②男子40歳以上の部!B26","v":0}]
[null,null,null,null,null,null,null,null,{"$f":"②男子40歳以上の部!U27","v":0},0,{"$f":"②男子40歳以上の部!B27","v":"氏　　　名"}]
[null,null,null,null,null,null,null,null,{"$f":"②男子40歳以上の部!U28","v":0},0,{"$f":"②男子40歳以上の部!B28","v":0}]
[null,null,null,null,null,null,null,null,{"$f":"②男子40歳以上の部!U29","v":0},0,{"$f":"②男子40歳以上の部!B29","v":0}]
[null,null,null,null,null,null,null,null,{"$f":"②男子40歳以上の部!U30","v":0},0,{"$f":"②男子40歳以上の部!B30","v":0}]
[null,null,null,null,null,null,null,null,{"$f":"②男子40歳以上の部!U31","v":0},0,{"$f":"②男子40歳以上の部!B31","v":0}]
[null,null,null,null,null,null,null,null,{"$f":"②男子40歳以上の部!U32","v":0},0,{"$f":"②男子40歳以上の部!B32","v":0}]
[null,null,null,null,null,null,null,null,{"$f":"②男子40歳以上の部!U33","v":0},0,{"$f":"②男子40歳以上の部!B33","v":0}]
[null,null,null,null,null,null,null,null,{"$f":"②男子40歳以上の部!U34","v":0},0,{"$f":"②男子40歳以上の部!B34","v":"氏　　　名"}]
[null,null,null,null,null,null,null,null,{"$f":"②男子40歳以上の部!U35","v":0},0,{"$f":"②男子40歳以上の部!B35","v":0}]
[null,null,null,null,null,null,null,null,{"$f":"②男子40歳以上の部!U36","v":0},0,{"$f":"②男子40歳以上の部!B36","v":0}]
[null,null,null,null,null,null,null,null,{"$f":"②男子40歳以上の部!U37","v":0},0,{"$f":"②男子40歳以上の部!B37","v":0}]
[null,null,null,null,null,null,null,null,{"$f":"②男子40歳以上の部!U38","v":0},0,{"$f":"②男子40歳以上の部!B38","v":0}]
[null,null,null,null,null,null,null,null,{"$f":"②男子40歳以上の部!U39","v":0},0,{"$f":"②男子40歳以上の部!B39","v":0}]
[null,null,null,null,null,null,null,null,{"$f":"②男子40歳以上の部!U40","v":0},0,{"$f":"②男子40歳以上の部!B40","v":0}]
[null,null,null,null,null,null,null,null,{"$f":"②男子40歳以上の部!U41","v":0},0,{"$f":"②男子40歳以上の部!B41","v":"氏　　　名"}]
[null,null,null,null,null,null,null,null,{"$f":"②男子40歳以上の部!U42","v":0},0,{"$f":"②男子40歳以上の部!B42","v":0}]
[null,null,null,null,null,null,null,null,{"$f":"②男子40歳以上の部!U43","v":0},0,{"$f":"②男子40歳以上の部!B43","v":0}]
[null,null,null,null,null,null,null,null,{"$f":"③男子55歳以上の部!U15","v":0},0,{"$f":"③男子55歳以上の部!B15","v":0}]
[null,null,null,null,null,null,null,null,{"$f":"③男子55歳以上の部!U16","v":0},8,{"$f":"③男子55歳以上の部!B16","v":0}]
[null,null,null,null,null,null,null,null,{"$f":"③男子55歳以上の部!U17","v":0},9,{"$f":"③男子55歳以上の部!B17","v":0}]
[null,null,null,null,null,null,null,null,{"$f":"③男子55歳以上の部!U18","v":0},0,{"$f":"③男子55歳以上の部!B18","v":0}]
[null,null,null,null,null,null,null,null,{"$f":"③男子55歳以上の部!U19","v":0},0,{"$f":"③男子55歳以上の部!B19","v":0}]
[null,null,null,null,null,null,null,null,{"$f":"③男子55歳以上の部!U20","v":0},0,{"$f":"③男子55歳以上の部!B20","v":"氏　　　名"}]
[null,null,null,null,null,null,null,null,{"$f":"③男子55歳以上の部!U21","v":0},0,{"$f":"③男子55歳以上の部!B21","v":0}]
[null,null,null,null,null,null,null,null,{"$f":"③男子55歳以上の部!U22","v":0},0,{"$f":"③男子55歳以上の部!B22","v":0}]
[null,null,null,null,null,null,null,null,{"$f":"③男子55歳以上の部!U23","v":0},0,{"$f":"③男子55歳以上の部!B23","v":0}]
[null,null,null,null,null,null,null,null,{"$f":"③男子55歳以上の部!U24","v":0},0,{"$f":"③男子55歳以上の部!B24","v":0}]
[null,null,null,null,null,null,null,null,{"$f":"③男子55歳以上の部!U25","v":0},0,{"$f":"③男子55歳以上の部!B25","v":0}]
[null,null,null,null,null,null,null,null,{"$f":"③男子55歳以上の部!U26","v":0},0,{"$f":"③男子55歳以上の部!B26","v":0}]
[null,null,null,null,null,null,null,null,{"$f":"③男子55歳以上の部!U27","v":0},0,{"$f":"③男子55歳以上の部!B27","v":"氏　　　名"}]
[null,null,null,null,null,null,null,null,{"$f":"③男子55歳以上の部!U28","v":0},0,{"$f":"③男子55歳以上の部!B28","v":0}]
[null,null,null,null,null,null,null,null,{"$f":"③男子55歳以上の部!U29","v":0},0,{"$f":"③男子55歳以上の部!B29","v":0}]
[null,null,null,null,null,null,null,null,{"$f":"③男子55歳以上の部!U30","v":0},0,{"$f":"③男子55歳以上の部!B30","v":0}]
[null,null,null,null,null,null,null,null,{"$f":"③男子55歳以上の部!U31","v":0},0,{"$f":"③男子55歳以上の部!B31","v":0}]
[null,null,null,null,null,null,null,null,{"$f":"③男子55歳以上の部!U32","v":0},0,{"$f":"③男子55歳以上の部!B32","v":0}]
[null,null,null,null,null,null,null,null,{"$f":"③男子55歳以上の部!U33","v":0},0,{"$f":"③男子55歳以上の部!B33","v":0}]
[null,null,null,null,null,null,null,null,{"$f":"③男子55歳以上の部!U34","v":0},0,{"$f":"③男子55歳以上の部!B34","v":"氏　　　名"}]
[null,null,null,null,null,null,null,null,{"$f":"③男子55歳以上の部!U35","v":0},0,{"$f":"③男子55歳以上の部!B35","v":0}]
[null,null,null,null,null,null,null,null,{"$f":"③男子55歳以上の部!U36","v":0},0,{"$f":"③男子55歳以上の部!B36","v":0}]
[null,null,null,null,null,null,null,null,{"$f":"③男子55歳以上の部!U37","v":0},0,{"$f":"③男子55歳以上の部!B37","v":0}]
[null,null,null,null,null,null,null,null,{"$f":"③男子55歳以上の部!U38","v":0},0,{"$f":"③男子55歳以上の部!B38","v":0}]
[null,null,null,null,null,null,null,null,{"$f":"③男子55歳以上の部!U39","v":0},0,{"$f":"③男子55歳以上の部!B39","v":0},{"$f":"IF(④女子の部!U44=\"\",\"\",④女子の部!L44)","v":""}]
[null,null,null,null,null,null,null,null,{"$f":"③男子55歳以上の部!U40","v":0},0,{"$f":"③男子55歳以上の部!B40","v":0},{"$f":"IF(④女子の部!U45=\"\",\"\",④女子の部!L45)","v":""}]
[null,null,null,null,null,null,null,null,{"$f":"③男子55歳以上の部!U41","v":0},0,{"$f":"③男子55歳以上の部!B41","v":"氏　　　名"}]
[null,null,null,null,null,null,null,null,{"$f":"③男子55歳以上の部!U42","v":0},0,{"$f":"③男子55歳以上の部!B42","v":0}]
[null,null,null,null,null,null,null,null,{"$f":"③男子55歳以上の部!U43","v":0},0,{"$f":"③男子55歳以上の部!B43","v":0}]
[null,null,null,null,null,null,null,null,{"$f":"④女子の部!U15","v":0},0,{"$f":"④女子の部!B15","v":0}]
[null,null,null,null,null,null,null,null,{"$f":"④女子の部!U16","v":0},0,{"$f":"④女子の部!B16","v":0}]
[null,null,null,null,null,null,null,null,{"$f":"④女子の部!U17","v":0},0,{"$f":"④女子の部!B17","v":0}]
[null,null,null,null,null,null,null,null,{"$f":"④女子の部!U18","v":0},0,{"$f":"④女子の部!B18","v":0}]
[null,null,null,null,null,null,null,null,{"$f":"④女子の部!U19","v":0},0,{"$f":"④女子の部!B19","v":0}]
[null,null,null,null,null,null,null,null,{"$f":"④女子の部!U20","v":0},0,{"$f":"④女子の部!B20","v":"氏　　　名"}]
[null,null,null,null,null,null,null,null,{"$f":"④女子の部!U21","v":0},0,{"$f":"④女子の部!B21","v":0}]
[null,null,null,null,null,null,null,null,{"$f":"④女子の部!U22","v":0},0,{"$f":"④女子の部!B22","v":0}]
[null,null,null,null,null,null,null,null,{"$f":"④女子の部!U23","v":0},0,{"$f":"④女子の部!B23","v":0}]
[null,null,null,null,null,null,null,null,{"$f":"④女子の部!U24","v":0},0,{"$f":"④女子の部!B24","v":0}]
[null,null,null,null,null,null,null,null,{"$f":"④女子の部!U25","v":0},0,{"$f":"④女子の部!B25","v":0}]
[null,null,null,null,null,null,null,null,{"$f":"④女子の部!U26","v":0},0,{"$f":"④女子の部!B26","v":0}]
[null,null,null,null,null,null,null,null,{"$f":"④女子の部!U27","v":0},0,{"$f":"④女子の部!B27","v":"氏　　　名"}]
[null,null,null,null,null,null,null,null,{"$f":"④女子の部!U28","v":0},0,{"$f":"④女子の部!B28","v":0}]
[null,null,null,null,null,null,null,null,{"$f":"④女子の部!U29","v":0},0,{"$f":"④女子の部!B29","v":0}]
[null,null,null,null,null,null,null,null,{"$f":"④女子の部!U30","v":0},0,{"$f":"④女子の部!B30","v":0}]
[null,null,null,null,null,null,null,null,{"$f":"④女子の部!U31","v":0},0,{"$f":"④女子の部!B31","v":0}]
[null,null,null,null,null,null,null,null,{"$f":"④女子の部!U32","v":0},0,{"$f":"④女子の部!B32","v":0}]
[null,null,null,null,null,null,null,null,{"$f":"④女子の部!U33","v":0},0,{"$f":"④女子の部!B33","v":0}]
[null,null,null,null,null,null,null,null,{"$f":"④女子の部!U34","v":0},0,{"$f":"④女子の部!B34","v":"氏　　　名"}]
[null,null,null,null,null,null,null,null,{"$f":"④女子の部!U35","v":0},0,{"$f":"④女子の部!B35","v":0}]
[null,null,null,null,null,null,null,null,{"$f":"④女子の部!U36","v":0},0,{"$f":"④女子の部!B36","v":0}]
[null,null,null,null,null,null,null,null,{"$f":"④女子の部!U37","v":0},0,{"$f":"④女子の部!B37","v":0}]
[null,null,null,null,null,null,null,null,{"$f":"④女子の部!U38","v":0},0,{"$f":"④女子の部!B38","v":0}]
[null,null,null,null,null,null,null,null,{"$f":"④女子の部!U39","v":0},0,{"$f":"④女子の部!B39","v":0}]
[null,null,null,null,null,null,null,null,{"$f":"④女子の部!U40","v":0},0,{"$f":"④女子の部!B40","v":0}]
[null,null,null,null,null,null,null,null,{"$f":"④女子の部!U41","v":0},0,{"$f":"④女子の部!B41","v":"氏　　　名"}]
[null,null,null,null,null,null,null,null,{"$f":"④女子の部!U42","v":0},0,{"$f":"④女子の部!B42","v":0}]
[null,null,null,null,null,null,null,null,{"$f":"④女子の部!U43","v":0},0,{"$f":"④女子の部!B43","v":0}]
[null,null,null,null,null,null,null,null,{"$f":"'11人対抗戦推薦選手'!S25","v":0},10,{"$f":"'11人対抗戦推薦選手'!B25","v":0}]
[null,null,null,null,null,null,null,null,{"$f":"'11人対抗戦推薦選手'!S26","v":0},0,{"$f":"'11人対抗戦推薦選手'!B26","v":0}]
[null,null,null,null,null,null,null,null,{"$f":"'11人対抗戦推薦選手'!S27","v":0},0,{"$f":"'11人対抗戦推薦選手'!B27","v":0}]
[null,null,null,null,null,null,null,null,{"$f":"'11人対抗戦推薦選手'!S28","v":0},0,{"$f":"'11人対抗戦推薦選手'!B28","v":0}]
[null,null,null,null,null,null,null,null,{"$f":"'11人対抗戦推薦選手'!S29","v":0},0,{"$f":"'11人対抗戦推薦選手'!B29","v":0}]
[null,null,null,null,null,null,null,null,{"$f":"'11人対抗戦推薦選手'!S30","v":0},0,{"$f":"'11人対抗戦推薦選手'!B30","v":0}]

{"sheet":"保険①","index":8,"n_rows":40,"n_cols":15,"rows_kept":40,"cut":false,"hidden":false,"merged":[[37,12,38,12],[37,13,38,13],[37,14,38,14],[39,1,40,1],[39,3,40,3],[39,4,40,4],[39,5,40,5],[39,6,40,6],[35,12,36,12],[35,13,36,13],[35,14,36,14],[37,1,38,1],[37,3,38,3],[37,4,38,4],[37,5,38,5],[37,6,38,6],[37,7,38,7],[37,8,38,8],[39,14,40,14],[39,7,40,7],[39,8,40,8],[39,10,40,10],[39,11,40,11],[39,12,40,12],[39,13,40,13],[37,10,38,10],[37,11,38,11],[33,1,34,1],[33,3,34,3],[33,4,34,4],[33,5,34,5],[33,6,34,6],[33,14,34,14],[35,1,36,1],[35,3,36,3],[35,4,36,4],[35,5,36,5],[35,6,36,6],[35,7,36,7],[35,8,36,8],[35,10,36,10],[35,11,36,11],[33,7,34,7],[33,8,34,8],[33,10,34,10],[33,11,34,11],[33,12,34,12],[33,13,34,13],[29,12,30,12],[29,13,30,13],[29,14,30,14],[31,1,32,1],[31,3,32,3],[31,4,32,4],[31,5,32,5],[31,6,32,6],[31,7,32,7],[31,8,32,8],[31,10,32,10],[31,11,32,11],[31,12,32,12],[31,13,32,13],[31,14,32,14],[29,1,30,1],[29,3,30,3],[29,4,30,4],[29,5,30,5],[29,6,30,6],[29,7,30,7],[29,8,30,8],[29,10,30,10],[29,11,30,11],[25,12,26,12],[25,13,26,13],[25,14,26,14],[27,1,28,1],[27,3,28,3],[27,4,28,4],[27,5,28,5],[27,6,28,6],[27,14,28,14],[27,7,28,7],[27,8,28,8],[27,10,28,10],[27,11,28,11],[27,12,28,12],[27,13,28,13],[25,1,26,1],[25,3,26,3],[25,4,26,4],[25,5,26,5],[25,6,26,6],[25,7,26,7],[25,8,26,8],[25,10,26,10],[25,11,26,11],[21,1,22,1],[21,3,22,3],[21,4,22,4],[21,5,22,5],[21,6,22,6],[21,14,22,14],[23,1,24,1],[23,3,24,3],[23,4,24,4],[23,5,24,5],[23,6,24,6],[23,7,24,7],[23,8,24,8],[23,10,24,10],[23,11,24,11],[21,7,22,7],[21,8,22,8],[21,10,22,10],[21,11,22,11],[21,12,22,12],[21,13,22,13],[23,12,24,12],[23,13,24,13],[23,14,24,14],[17,12,18,12],[17,13,18,13],[17,14,18,14],[19,1,20,1],[19,3,20,3],[19,4,20,4],[19,5,20,5],[19,6,20,6],[19,7,20,7],[19,8,20,8],[19,10,20,10],[19,11,20,11],[19,12,20,12],[19,13,20,13],[19,14,20,14],[17,1,18,1],[17,3,18,3],[17,4,18,4],[17,5,18,5],[17,6,18,6],[17,7,18,7],[17,8,18,8],[17,10,18,10],[17,11,18,11],[13,12,14,12],[13,13,14,13],[13,14,14,14],[15,1,16,1],[15,3,16,3],[15,4,16,4],[15,5,16,5],[15,6,16,6],[15,14,16,14],[15,7,16,7],[15,8,16,8],[15,10,16,10],[15,11,16,11],[15,12,16,12],[15,13,16,13],[13,1,14,1],[13,3,14,3],[13,4,14,4],[13,5,14,5],[13,6,14,6],[13,7,14,7],[13,8,14,8],[13,10,14,10],[13,11,14,11],[9,1,10,1],[9,3,10,3],[9,4,10,4],[9,5,9,7],[9,8,10,8],[9,10,10,10],[9,11,10,11],[9,12,9,14],[11,1,12,1],[11,3,12,3],[11,4,12,4],[11,5,12,5],[11,6,12,6],[11,7,12,7],[11,8,12,8],[11,10,12,10],[11,11,12,11],[11,12,12,12],[11,13,12,13],[11,14,12,14],[0,13,0,14],[2,2,2,12],[4,12,4,14],[6,1,6,4],[6,5,6,9],[6,10,6,14],[7,1,7,4],[7,5,7,9],[7,10,7,14]]}
[null,null,null,null,null,null,null,null,null,null,null,null,null,"自治労用"]
[]
[null,null,"行事・レクリエーション共済　参加者名簿"]
[]
[null,null,null,null,null,null,null,null,null,null,null,null,"日帰り行事"]
[]
[null,"組合名",null,null,null,"実施日・保険期間",null,null,null,null,"行事内容・開催地"]
[null,"全道庁労働組合",null,null,null,"2019年10月19日～2019年10月19日",null,null,null,null,"剣道、札幌市南区"]
[]
[null,"No.","フリガナ","年齢","性別","組合員との続柄",null,null,"No.","フリガナ","年齢","性別","組合員との続柄"]
[null,null,"氏名",null,null,"本人","家族","その他",null,"氏名",null,null,"本人","家族","その他"]
[null,1,{"$f":"①男子40歳未満の部!G15& \"　\"&①男子40歳未満の部!H15","v":"　"},{"$f":"①男子40歳未満の部!I15","v":0},"男",null,null,"○",16,null,null,null,null,null,"○"]
[null,null,{"$f":"①男子40歳未満の部!B15","v":0}]
[null,2,{"$f":"①男子40歳未満の部!G16& \"　\"&①男子40歳未満の部!H16","v":"　"},{"$f":"①男子40歳未満の部!I16","v":0},"男",null,null,"○",17,null,null,null,null,null,"○"]
[null,null,{"$f":"①男子40歳未満の部!B16","v":0}]
[null,3,{"$f":"①男子40歳未満の部!G17& \"　\"&①男子40歳未満の部!H17","v":"　"},{"$f":"①男子40歳未満の部!I17","v":0},"男",null,null,"○",18,null,null,null,null,null,"○"]
[null,null,{"$f":"①男子40歳未満の部!B17","v":0}]
[null,4,{"$f":"①男子40歳未満の部!G22& \"　\"&①男子40歳未満の部!H22","v":"　"},{"$f":"①男子40歳未満の部!I22","v":0},"男",null,null,"○",19,null,null,null,null,null,"○"]
[null,null,{"$f":"①男子40歳未満の部!B22","v":0}]
[null,5,{"$f":"①男子40歳未満の部!G23& \"　\"&①男子40歳未満の部!H23","v":"　"},{"$f":"①男子40歳未満の部!I23","v":0},"男",null,null,"○",20,null,null,null,null,null,"○"]
[null,null,{"$f":"①男子40歳未満の部!B23","v":0}]
[null,6,{"$f":"①男子40歳未満の部!G24& \"　\"&①男子40歳未満の部!H24","v":"　"},{"$f":"①男子40歳未満の部!I24","v":0},"男",null,null,"○",21,null,null,null,null,null,"○"]
[null,null,{"$f":"①男子40歳未満の部!B24","v":0}]
[null,7,{"$f":"①男子40歳未満の部!G29& \"　\"&①男子40歳未満の部!H29","v":"　"},{"$f":"①男子40歳未満の部!I29","v":0},"男",null,null,"○",22,null,null,null,null,null,"○"]
[null,null,{"$f":"①男子40歳未満の部!B29","v":0}]
[null,8,{"$f":"①男子40歳未満の部!G30& \"　\"&①男子40歳未満の部!H30","v":"　"},{"$f":"①男子40歳未満の部!I30","v":0},"男",null,null,"○",23,null,null,null,null,null,"○"]
[null,null,{"$f":"①男子40歳未満の部!B30","v":0}]
[null,9,{"$f":"①男子40歳未満の部!G31& \"　\"&①男子40歳未満の部!H31","v":"　"},{"$f":"①男子40歳未満の部!I31","v":0},"男",null,null,"○",24,null,null,null,null,null,"○"]
[null,null,{"$f":"①男子40歳未満の部!B31","v":0}]
[null,10,{"$f":"①男子40歳未満の部!G36& \"　\"&①男子40歳未満の部!H36","v":"　"},{"$f":"①男子40歳未満の部!I36","v":0},"男",null,null,"○",25,null,null,null,null,null,"○"]
[null,null,{"$f":"①男子40歳未満の部!B36","v":0}]
[null,11,{"$f":"①男子40歳未満の部!G37& \"　\"&①男子40歳未満の部!H37","v":"　"},{"$f":"①男子40歳未満の部!I37","v":0},"男",null,null,"○",26,null,null,null,null,null,"○"]
[null,null,{"$f":"①男子40歳未満の部!B37","v":0}]
[null,12,{"$f":"①男子40歳未満の部!G38& \"　\"&①男子40歳未満の部!H38","v":"　"},{"$f":"①男子40歳未満の部!I38","v":0},"男",null,null,"○",27,null,null,null,null,null,"○"]
[null,null,{"$f":"①男子40歳未満の部!B38","v":0}]
[null,13,{"$f":"①男子40歳未満の部!G43& \"　\"&①男子40歳未満の部!H43","v":"　"},{"$f":"①男子40歳未満の部!I43","v":0},"男",null,null,"○",28,null,null,null,null,null,"○"]
[null,null,{"$f":"①男子40歳未満の部!B43","v":0}]
[null,14,null,null,null,null,null,"○",29,null,null,null,null,null,"○"]
[]
[null,15,null,null,null,null,null,"○",30,null,null,null,null,null,"○"]

{"sheet":"保険②","index":9,"n_rows":40,"n_cols":15,"rows_kept":40,"cut":false,"hidden":false,"merged":[[37,12,38,12],[37,13,38,13],[37,14,38,14],[39,1,40,1],[39,3,40,3],[39,4,40,4],[39,5,40,5],[39,6,40,6],[35,12,36,12],[35,13,36,13],[35,14,36,14],[37,1,38,1],[37,3,38,3],[37,4,38,4],[37,5,38,5],[37,6,38,6],[37,7,38,7],[37,8,38,8],[39,14,40,14],[39,7,40,7],[39,8,40,8],[39,10,40,10],[39,11,40,11],[39,12,40,12],[39,13,40,13],[37,10,38,10],[37,11,38,11],[33,1,34,1],[33,3,34,3],[33,4,34,4],[33,5,34,5],[33,6,34,6],[33,14,34,14],[35,1,36,1],[35,3,36,3],[35,4,36,4],[35,5,36,5],[35,6,36,6],[35,7,36,7],[35,8,36,8],[35,10,36,10],[35,11,36,11],[33,7,34,7],[33,8,34,8],[33,10,34,10],[33,11,34,11],[33,12,34,12],[33,13,34,13],[29,12,30,12],[29,13,30,13],[29,14,30,14],[31,1,32,1],[31,3,32,3],[31,4,32,4],[31,5,32,5],[31,6,32,6],[31,7,32,7],[31,8,32,8],[31,10,32,10],[31,11,32,11],[31,12,32,12],[31,13,32,13],[31,14,32,14],[29,1,30,1],[29,3,30,3],[29,4,30,4],[29,5,30,5],[29,6,30,6],[29,7,30,7],[29,8,30,8],[29,10,30,10],[29,11,30,11],[25,12,26,12],[25,13,26,13],[25,14,26,14],[27,1,28,1],[27,3,28,3],[27,4,28,4],[27,5,28,5],[27,6,28,6],[27,14,28,14],[27,7,28,7],[27,8,28,8],[27,10,28,10],[27,11,28,11],[27,12,28,12],[27,13,28,13],[25,1,26,1],[25,3,26,3],[25,4,26,4],[25,5,26,5],[25,6,26,6],[25,7,26,7],[25,8,26,8],[25,10,26,10],[25,11,26,11],[21,1,22,1],[21,3,22,3],[21,4,22,4],[21,5,22,5],[21,6,22,6],[21,14,22,14],[23,1,24,1],[23,3,24,3],[23,4,24,4],[23,5,24,5],[23,6,24,6],[23,7,24,7],[23,8,24,8],[23,10,24,10],[23,11,24,11],[21,7,22,7],[21,8,22,8],[21,10,22,10],[21,11,22,11],[21,12,22,12],[21,13,22,13],[23,12,24,12],[23,13,24,13],[23,14,24,14],[17,12,18,12],[17,13,18,13],[17,14,18,14],[19,1,20,1],[19,3,20,3],[19,4,20,4],[19,5,20,5],[19,6,20,6],[19,7,20,7],[19,8,20,8],[19,10,20,10],[19,11,20,11],[19,12,20,12],[19,13,20,13],[19,14,20,14],[17,1,18,1],[17,3,18,3],[17,4,18,4],[17,5,18,5],[17,6,18,6],[17,7,18,7],[17,8,18,8],[17,10,18,10],[17,11,18,11],[13,12,14,12],[13,13,14,13],[13,14,14,14],[15,1,16,1],[15,3,16,3],[15,4,16,4],[15,5,16,5],[15,6,16,6],[15,14,16,14],[15,7,16,7],[15,8,16,8],[15,10,16,10],[15,11,16,11],[15,12,16,12],[15,13,16,13],[13,1,14,1],[13,3,14,3],[13,4,14,4],[13,5,14,5],[13,6,14,6],[13,7,14,7],[13,8,14,8],[13,10,14,10],[13,11,14,11],[9,1,10,1],[9,3,10,3],[9,4,10,4],[9,5,9,7],[9,8,10,8],[9,10,10,10],[9,11,10,11],[9,12,9,14],[11,1,12,1],[11,3,12,3],[11,4,12,4],[11,5,12,5],[11,6,12,6],[11,7,12,7],[11,8,12,8],[11,10,12,10],[11,11,12,11],[11,12,12,12],[11,13,12,13],[11,14,12,14],[0,13,0,14],[2,2,2,12],[4,12,4,14],[6,1,6,4],[6,5,6,9],[6,10,6,14],[7,1,7,4],[7,5,7,9],[7,10,7,14]]}
[null,null,null,null,null,null,null,null,null,null,null,null,null,"自治労用"]
[]
[null,null,"行事・レクリエーション共済　参加者名簿"]
[]
[null,null,null,null,null,null,null,null,null,null,null,null,"日帰り行事"]
[]
[null,"組合名",null,null,null,"実施日・保険期間",null,null,null,null,"行事内容・開催地"]
[null,"全道庁労働組合",null,null,null,"2019年10月19日～2019年10月19日",null,null,null,null,"剣道、札幌市南区"]
[]
[null,"No.","フリガナ","年齢","性別","組合員との続柄",null,null,"No.","フリガナ","年齢","性別","組合員との続柄"]
[null,null,"氏名",null,null,"本人","家族","その他",null,"氏名",null,null,"本人","家族","その他"]
[null,1,{"$f":"②男子40歳以上の部!G15&\"　\"&②男子40歳以上の部!H15","v":"　"},{"$f":"②男子40歳以上の部!I15","v":0},"男",null,null,"○",16,null,null,null,null,null,"○"]
[null,null,{"$f":"②男子40歳以上の部!B15","v":0}]
[null,2,{"$f":"②男子40歳以上の部!G16&\"　\"&②男子40歳以上の部!H16","v":"　"},{"$f":"②男子40歳以上の部!I16","v":0},"男",null,null,"○",17,null,null,null,null,null,"○"]
[null,null,{"$f":"②男子40歳以上の部!B16","v":0}]
[null,3,{"$f":"②男子40歳以上の部!G17&\"　\"&②男子40歳以上の部!H17","v":"　"},{"$f":"②男子40歳以上の部!I17","v":0},"男",null,null,"○",18,null,null,null,null,null,"○"]
[null,null,{"$f":"②男子40歳以上の部!B17","v":0}]
[null,4,{"$f":"②男子40歳以上の部!G22&\"　\"&②男子40歳以上の部!H22","v":"　"},{"$f":"②男子40歳以上の部!I22","v":0},"男",null,null,"○",19,null,null,null,null,null,"○"]
[null,null,{"$f":"②男子40歳以上の部!B22","v":0}]
[null,5,{"$f":"②男子40歳以上の部!G23&\"　\"&②男子40歳以上の部!H23","v":"　"},{"$f":"②男子40歳以上の部!I23","v":0},"男",null,null,"○",20,null,null,null,null,null,"○"]
[null,null,{"$f":"②男子40歳以上の部!B23","v":0}]
[null,6,{"$f":"②男子40歳以上の部!G24&\"　\"&②男子40歳以上の部!H24","v":"　"},{"$f":"②男子40歳以上の部!I24","v":0},"男",null,null,"○",21,null,null,null,null,null,"○"]
[null,null,{"$f":"②男子40歳以上の部!B24","v":0}]
[null,7,{"$f":"②男子40歳以上の部!G29&\"　\"&②男子40歳以上の部!H29","v":"　"},{"$f":"②男子40歳以上の部!I29","v":0},"男",null,null,"○",22,null,null,null,null,null,"○"]
[null,null,{"$f":"②男子40歳以上の部!B29","v":0}]
[null,8,{"$f":"②男子40歳以上の部!G30&\"　\"&②男子40歳以上の部!H30","v":"　"},{"$f":"②男子40歳以上の部!I30","v":0},"男",null,null,"○",23,null,null,null,null,null,"○"]
[null,null,{"$f":"②男子40歳以上の部!B30","v":0}]
[null,9,{"$f":"②男子40歳以上の部!G31&\"　\"&②男子40歳以上の部!H31","v":"　"},{"$f":"②男子40歳以上の部!I31","v":0},"男",null,null,"○",24,null,null,null,null,null,"○"]
[null,null,{"$f":"②男子40歳以上の部!B31","v":0}]
[null,10,{"$f":"②男子40歳以上の部!G36&\"　\"&②男子40歳以上の部!H36","v":"　"},{"$f":"②男子40歳以上の部!I36","v":0},"男",null,null,"○",25,null,null,null,null,null,"○"]
[null,null,{"$f":"②男子40歳以上の部!B36","v":0}]
[null,11,{"$f":"②男子40歳以上の部!G37&\"　\"&②男子40歳以上の部!H37","v":"　"},{"$f":"②男子40歳以上の部!I37","v":0},"男",null,null,"○",26,null,null,null,null,null,"○"]
[null,null,{"$f":"②男子40歳以上の部!B37","v":0}]
[null,12,{"$f":"②男子40歳以上の部!G38&\"　\"&②男子40歳以上の部!H38","v":"　"},{"$f":"②男子40歳以上の部!I38","v":0},"男",null,null,"○",27,null,null,null,null,null,"○"]
[null,null,{"$f":"②男子40歳以上の部!B38","v":0}]
[null,13,{"$f":"②男子40歳以上の部!G43&\"　\"&②男子40歳以上の部!H43","v":"　"},{"$f":"②男子40歳以上の部!I43","v":0},"男",null,null,"○",28,null,null,null,null,null,"○"]
[null,null,{"$f":"②男子40歳以上の部!B43","v":0}]
[null,14,null,null,null,null,null,"○",29,null,null,null,null,null,"○"]
[]
[null,15,null,null,null,null,null,"○",30,null,null,null,null,null,"○"]

{"sheet":"保険③","index":10,"n_rows":40,"n_cols":15,"rows_kept":40,"cut":false,"hidden":false,"merged":[[37,12,38,12],[37,13,38,13],[37,14,38,14],[39,1,40,1],[39,3,40,3],[39,4,40,4],[39,5,40,5],[39,6,40,6],[35,12,36,12],[35,13,36,13],[35,14,36,14],[37,1,38,1],[37,3,38,3],[37,4,38,4],[37,5,38,5],[37,6,38,6],[37,7,38,7],[37,8,38,8],[39,14,40,14],[39,7,40,7],[39,8,40,8],[39,10,40,10],[39,11,40,11],[39,12,40,12],[39,13,40,13],[37,10,38,10],[37,11,38,11],[33,1,34,1],[33,3,34,3],[33,4,34,4],[33,5,34,5],[33,6,34,6],[33,14,34,14],[35,1,36,1],[35,3,36,3],[35,4,36,4],[35,5,36,5],[35,6,36,6],[35,7,36,7],[35,8,36,8],[35,10,36,10],[35,11,36,11],[33,7,34,7],[33,8,34,8],[33,10,34,10],[33,11,34,11],[33,12,34,12],[33,13,34,13],[29,12,30,12],[29,13,30,13],[29,14,30,14],[31,1,32,1],[31,3,32,3],[31,4,32,4],[31,5,32,5],[31,6,32,6],[31,7,32,7],[31,8,32,8],[31,10,32,10],[31,11,32,11],[31,12,32,12],[31,13,32,13],[31,14,32,14],[29,1,30,1],[29,3,30,3],[29,4,30,4],[29,5,30,5],[29,6,30,6],[29,7,30,7],[29,8,30,8],[29,10,30,10],[29,11,30,11],[25,12,26,12],[25,13,26,13],[25,14,26,14],[27,1,28,1],[27,3,28,3],[27,4,28,4],[27,5,28,5],[27,6,28,6],[27,14,28,14],[27,7,28,7],[27,8,28,8],[27,10,28,10],[27,11,28,11],[27,12,28,12],[27,13,28,13],[25,1,26,1],[25,3,26,3],[25,4,26,4],[25,5,26,5],[25,6,26,6],[25,7,26,7],[25,8,26,8],[25,10,26,10],[25,11,26,11],[21,1,22,1],[21,3,22,3],[21,4,22,4],[21,5,22,5],[21,6,22,6],[21,14,22,14],[23,1,24,1],[23,3,24,3],[23,4,24,4],[23,5,24,5],[23,6,24,6],[23,7,24,7],[23,8,24,8],[23,10,24,10],[23,11,24,11],[21,7,22,7],[21,8,22,8],[21,10,22,10],[21,11,22,11],[21,12,22,12],[21,13,22,13],[23,12,24,12],[23,13,24,13],[23,14,24,14],[17,12,18,12],[17,13,18,13],[17,14,18,14],[19,1,20,1],[19,3,20,3],[19,4,20,4],[19,5,20,5],[19,6,20,6],[19,7,20,7],[19,8,20,8],[19,10,20,10],[19,11,20,11],[19,12,20,12],[19,13,20,13],[19,14,20,14],[17,1,18,1],[17,3,18,3],[17,4,18,4],[17,5,18,5],[17,6,18,6],[17,7,18,7],[17,8,18,8],[17,10,18,10],[17,11,18,11],[13,12,14,12],[13,13,14,13],[13,14,14,14],[15,1,16,1],[15,3,16,3],[15,4,16,4],[15,5,16,5],[15,6,16,6],[15,14,16,14],[15,7,16,7],[15,8,16,8],[15,10,16,10],[15,11,16,11],[15,12,16,12],[15,13,16,13],[13,1,14,1],[13,3,14,3],[13,4,14,4],[13,5,14,5],[13,6,14,6],[13,7,14,7],[13,8,14,8],[13,10,14,10],[13,11,14,11],[9,1,10,1],[9,3,10,3],[9,4,10,4],[9,5,9,7],[9,8,10,8],[9,10,10,10],[9,11,10,11],[9,12,9,14],[11,1,12,1],[11,3,12,3],[11,4,12,4],[11,5,12,5],[11,6,12,6],[11,7,12,7],[11,8,12,8],[11,10,12,10],[11,11,12,11],[11,12,12,12],[11,13,12,13],[11,14,12,14],[0,13,0,14],[2,2,2,12],[4,12,4,14],[6,1,6,4],[6,5,6,9],[6,10,6,14],[7,1,7,4],[7,5,7,9],[7,10,7,14]]}
[null,null,null,null,null,null,null,null,null,null,null,null,null,"自治労用"]
[]
[null,null,"行事・レクリエーション共済　参加者名簿"]
[]
[null,null,null,null,null,null,null,null,null,null,null,null,"日帰り行事"]
[]
[null,"組合名",null,null,null,"実施日・保険期間",null,null,null,null,"行事内容・開催地"]
[null,"全道庁労働組合",null,null,null,"2019年10月19日～2019年10月19日",null,null,null,null,"剣道、札幌市南区"]
[]
[null,"No.","フリガナ","年齢","性別","組合員との続柄",null,null,"No.","フリガナ","年齢","性別","組合員との続柄"]
[null,null,"氏名",null,null,"本人","家族","その他",null,"氏名",null,null,"本人","家族","その他"]
[null,1,{"$f":"③男子55歳以上の部!G15&\"　\"&③男子55歳以上の部!H15","v":"　"},{"$f":"③男子55歳以上の部!I15","v":0},"男",null,null,"○",16,null,null,null,null,null,"○"]
[null,null,{"$f":"③男子55歳以上の部!B15","v":0}]
[null,2,{"$f":"③男子55歳以上の部!G16&\"　\"&③男子55歳以上の部!H16","v":"　"},{"$f":"③男子55歳以上の部!I16","v":0},"男",null,null,"○",17,null,null,null,null,null,"○"]
[null,null,{"$f":"③男子55歳以上の部!B16","v":0}]
[null,3,{"$f":"③男子55歳以上の部!G17&\"　\"&③男子55歳以上の部!H17","v":"　"},{"$f":"③男子55歳以上の部!I17","v":0},"男",null,null,"○",18,null,null,null,null,null,"○"]
[null,null,{"$f":"③男子55歳以上の部!B17","v":0}]
[null,4,{"$f":"③男子55歳以上の部!G22&\"　\"&③男子55歳以上の部!H22","v":"　"},{"$f":"③男子55歳以上の部!I22","v":0},"男",null,null,"○",19,null,null,null,null,null,"○"]
[null,null,{"$f":"③男子55歳以上の部!B22","v":0}]
[null,5,{"$f":"③男子55歳以上の部!G23&\"　\"&③男子55歳以上の部!H23","v":"　"},{"$f":"③男子55歳以上の部!I23","v":0},"男",null,null,"○",20,null,null,null,null,null,"○"]
[null,null,{"$f":"③男子55歳以上の部!B23","v":0}]
[null,6,{"$f":"③男子55歳以上の部!G24&\"　\"&③男子55歳以上の部!H24","v":"　"},{"$f":"③男子55歳以上の部!I24","v":0},"男",null,null,"○",21,null,null,null,null,null,"○"]
[null,null,{"$f":"③男子55歳以上の部!B24","v":0}]
[null,7,{"$f":"③男子55歳以上の部!G29&\"　\"&③男子55歳以上の部!H29","v":"　"},{"$f":"③男子55歳以上の部!I29","v":0},"男",null,null,"○",22,null,null,null,null,null,"○"]
[null,null,{"$f":"③男子55歳以上の部!B29","v":0}]
[null,8,{"$f":"③男子55歳以上の部!G30&\"　\"&③男子55歳以上の部!H30","v":"　"},{"$f":"③男子55歳以上の部!I30","v":0},"男",null,null,"○",23,null,null,null,null,null,"○"]
[null,null,{"$f":"③男子55歳以上の部!B30","v":0}]
[null,9,{"$f":"③男子55歳以上の部!G31&\"　\"&③男子55歳以上の部!H31","v":"　"},{"$f":"③男子55歳以上の部!I31","v":0},"男",null,null,"○",24,null,null,null,null,null,"○"]
[null,null,{"$f":"③男子55歳以上の部!B31","v":0}]
[null,10,{"$f":"③男子55歳以上の部!G36&\"　\"&③男子55歳以上の部!H36","v":"　"},{"$f":"③男子55歳以上の部!I36","v":0},"男",null,null,"○",25,null,null,null,null,null,"○"]
[null,null,{"$f":"③男子55歳以上の部!B36","v":0}]
[null,11,{"$f":"③男子55歳以上の部!G37&\"　\"&③男子55歳以上の部!H37","v":"　"},{"$f":"③男子55歳以上の部!I37","v":0},"男",null,null,"○",26,null,null,null,null,null,"○"]
[null,null,{"$f":"③男子55歳以上の部!B37","v":0}]
[null,12,{"$f":"③男子55歳以上の部!G38&\"　\"&③男子55歳以上の部!H38","v":"　"},{"$f":"③男子55歳以上の部!I38","v":0},"男",null,null,"○",27,null,null,null,null,null,"○"]
[null,null,{"$f":"③男子55歳以上の部!B38","v":0}]
[null,13,{"$f":"③男子55歳以上の部!G43&\"　\"&③男子55歳以上の部!H43","v":"　"},{"$f":"③男子55歳以上の部!I43","v":0},"男",null,null,"○",28,null,null,null,null,null,"○"]
[null,null,{"$f":"③男子55歳以上の部!B43","v":0}]
[null,14,null,null,null,null,null,"○",29,null,null,null,null,null,"○"]
[]
[null,15,null,null,null,null,null,"○",30,null,null,null,null,null,"○"]

{"sheet":"保険④","index":11,"n_rows":40,"n_cols":15,"rows_kept":40,"cut":false,"hidden":false,"merged":[[37,12,38,12],[37,13,38,13],[37,14,38,14],[39,1,40,1],[39,3,40,3],[39,4,40,4],[39,5,40,5],[39,6,40,6],[35,12,36,12],[35,13,36,13],[35,14,36,14],[37,1,38,1],[37,3,38,3],[37,4,38,4],[37,5,38,5],[37,6,38,6],[37,7,38,7],[37,8,38,8],[39,14,40,14],[39,7,40,7],[39,8,40,8],[39,10,40,10],[39,11,40,11],[39,12,40,12],[39,13,40,13],[37,10,38,10],[37,11,38,11],[33,1,34,1],[33,3,34,3],[33,4,34,4],[33,5,34,5],[33,6,34,6],[33,14,34,14],[35,1,36,1],[35,3,36,3],[35,4,36,4],[35,5,36,5],[35,6,36,6],[35,7,36,7],[35,8,36,8],[35,10,36,10],[35,11,36,11],[33,7,34,7],[33,8,34,8],[33,10,34,10],[33,11,34,11],[33,12,34,12],[33,13,34,13],[29,12,30,12],[29,13,30,13],[29,14,30,14],[31,1,32,1],[31,3,32,3],[31,4,32,4],[31,5,32,5],[31,6,32,6],[31,7,32,7],[31,8,32,8],[31,10,32,10],[31,11,32,11],[31,12,32,12],[31,13,32,13],[31,14,32,14],[29,1,30,1],[29,3,30,3],[29,4,30,4],[29,5,30,5],[29,6,30,6],[29,7,30,7],[29,8,30,8],[29,10,30,10],[29,11,30,11],[25,12,26,12],[25,13,26,13],[25,14,26,14],[27,1,28,1],[27,3,28,3],[27,4,28,4],[27,5,28,5],[27,6,28,6],[27,14,28,14],[27,7,28,7],[27,8,28,8],[27,10,28,10],[27,11,28,11],[27,12,28,12],[27,13,28,13],[25,1,26,1],[25,3,26,3],[25,4,26,4],[25,5,26,5],[25,6,26,6],[25,7,26,7],[25,8,26,8],[25,10,26,10],[25,11,26,11],[21,1,22,1],[21,3,22,3],[21,4,22,4],[21,5,22,5],[21,6,22,6],[21,14,22,14],[23,1,24,1],[23,3,24,3],[23,4,24,4],[23,5,24,5],[23,6,24,6],[23,7,24,7],[23,8,24,8],[23,10,24,10],[23,11,24,11],[21,7,22,7],[21,8,22,8],[21,10,22,10],[21,11,22,11],[21,12,22,12],[21,13,22,13],[23,12,24,12],[23,13,24,13],[23,14,24,14],[17,12,18,12],[17,13,18,13],[17,14,18,14],[19,1,20,1],[19,3,20,3],[19,4,20,4],[19,5,20,5],[19,6,20,6],[19,7,20,7],[19,8,20,8],[19,10,20,10],[19,11,20,11],[19,12,20,12],[19,13,20,13],[19,14,20,14],[17,1,18,1],[17,3,18,3],[17,4,18,4],[17,5,18,5],[17,6,18,6],[17,7,18,7],[17,8,18,8],[17,10,18,10],[17,11,18,11],[13,12,14,12],[13,13,14,13],[13,14,14,14],[15,1,16,1],[15,3,16,3],[15,4,16,4],[15,5,16,5],[15,6,16,6],[15,14,16,14],[15,7,16,7],[15,8,16,8],[15,10,16,10],[15,11,16,11],[15,12,16,12],[15,13,16,13],[13,1,14,1],[13,3,14,3],[13,4,14,4],[13,5,14,5],[13,6,14,6],[13,7,14,7],[13,8,14,8],[13,10,14,10],[13,11,14,11],[9,1,10,1],[9,3,10,3],[9,4,10,4],[9,5,9,7],[9,8,10,8],[9,10,10,10],[9,11,10,11],[9,12,9,14],[11,1,12,1],[11,3,12,3],[11,4,12,4],[11,5,12,5],[11,6,12,6],[11,7,12,7],[11,8,12,8],[11,10,12,10],[11,11,12,11],[11,12,12,12],[11,13,12,13],[11,14,12,14],[0,13,0,14],[2,2,2,12],[4,12,4,14],[6,1,6,4],[6,5,6,9],[6,10,6,14],[7,1,7,4],[7,5,7,9],[7,10,7,14]]}
[null,null,null,null,null,null,null,null,null,null,null,null,null,"自治労用"]
[]
[null,null,"行事・レクリエーション共済　参加者名簿"]
[]
[null,null,null,null,null,null,null,null,null,null,null,null,"日帰り行事"]
[]
[null,"組合名",null,null,null,"実施日・保険期間",null,null,null,null,"行事内容・開催地"]
[null,"全道庁労働組合",null,null,null,"2019年10月19日～2019年10月19日",null,null,null,null,"剣道、札幌市南区"]
[]
[null,"No.","フリガナ","年齢","性別","組合員との続柄",null,null,"No.","フリガナ","年齢","性別","組合員との続柄"]
[null,null,"氏名",null,null,"本人","家族","その他",null,"氏名",null,null,"本人","家族","その他"]
[null,1,{"$f":"④女子の部!G15&\"　\"&④女子の部!H15","v":"　"},{"$f":"④女子の部!I15","v":0},"女",null,null,"○",16,null,null,null,null,null,"○"]
[null,null,{"$f":"④女子の部!B15","v":0}]
[null,2,{"$f":"④女子の部!G16&\"　\"&④女子の部!H16","v":"　"},{"$f":"④女子の部!I16","v":0},"女",null,null,"○",17,null,null,null,null,null,"○"]
[null,null,{"$f":"④女子の部!B16","v":0}]
[null,3,{"$f":"④女子の部!G17&\"　\"&④女子の部!H17","v":"　"},{"$f":"④女子の部!I17","v":0},"女",null,null,"○",18,null,null,null,null,null,"○"]
[null,null,{"$f":"④女子の部!B17","v":0}]
[null,4,{"$f":"④女子の部!G22&\"　\"&④女子の部!H22","v":"　"},{"$f":"④女子の部!I22","v":0},"女",null,null,"○",19,null,null,null,null,null,"○"]
[null,null,{"$f":"④女子の部!B22","v":0}]
[null,5,{"$f":"④女子の部!G23&\"　\"&④女子の部!H23","v":"　"},{"$f":"④女子の部!I23","v":0},"女",null,null,"○",20,null,null,null,null,null,"○"]
[null,null,{"$f":"④女子の部!B23","v":0}]
[null,6,{"$f":"④女子の部!G24&\"　\"&④女子の部!H24","v":"　"},{"$f":"④女子の部!I24","v":0},"女",null,null,"○",21,null,null,null,null,null,"○"]
[null,null,{"$f":"④女子の部!B24","v":0}]
[null,7,{"$f":"④女子の部!G29&\"　\"&④女子の部!H29","v":"　"},{"$f":"④女子の部!I29","v":0},"女",null,null,"○",22,null,null,null,null,null,"○"]
[null,null,{"$f":"④女子の部!B29","v":0}]
[null,8,{"$f":"④女子の部!G30&\"　\"&④女子の部!H30","v":"　"},{"$f":"④女子の部!I30","v":0},"女",null,null,"○",23,null,null,null,null,null,"○"]
[null,null,{"$f":"④女子の部!B30","v":0}]
[null,9,{"$f":"④女子の部!G31&\"　\"&④女子の部!H31","v":"　"},{"$f":"④女子の部!I31","v":0},"女",null,null,"○",24,null,null,null,null,null,"○"]
[null,null,{"$f":"④女子の部!B31","v":0}]
[null,10,{"$f":"④女子の部!G36&\"　\"&④女子の部!H36","v":"　"},{"$f":"④女子の部!I36","v":0},"女",null,null,"○",25,null,null,null,null,null,"○"]
[null,null,{"$f":"④女子の部!B36","v":0}]
[null,11,{"$f":"④女子の部!G37&\"　\"&④女子の部!H37","v":"　"},{"$f":"④女子の部!I37","v":0},"女",null,null,"○",26,null,null,null,null,null,"○"]
[null,null,{"$f":"④女子の部!B37","v":0}]
[null,12,{"$f":"④女子の部!G38&\"　\"&④女子の部!H38","v":"　"},{"$f":"④女子の部!I38","v":0},"女",null,null,"○",27,null,null,null,null,null,"○"]
[null,null,{"$f":"④女子の部!B38","v":0}]
[null,13,{"$f":"④女子の部!G43&\"　\"&④女子の部!H43","v":"　"},{"$f":"④女子の部!I43","v":0},"女",null,null,"○",28,null,null,null,null,null,"○"]
[null,null,{"$f":"④女子の部!B43","v":0}]
[null,14,null,null,null,null,null,"○",29,null,null,null,null,null,"○"]
[]
[null,15,null,null,null,null,null,"○",30,null,null,null,null,null,"○"]

{"sheet":"Sheet3","index":12,"n_rows":12,"n_cols":4,"rows_kept":12,"cut":false,"hidden":true,"merged":[]}
[]
[]
[]
[null,"教士",null,"初段"]
[null,"錬士",null,"弐段"]
[null,null,null,"参段"]
[null,null,null,"四段"]
[null,null,null,"五段"]
[null,null,null,"六段"]
[null,null,null,"七段"]
[null,null,null,"八段"]
[null,null,null,"神"]